BEGIN:VCALENDAR
VERSION:2.0
PRODID:-//Minong Trails Club - ECPv6.15.20//NONSGML v1.0//EN
CALSCALE:GREGORIAN
METHOD:PUBLISH
X-ORIGINAL-URL:http://www.minongtrails.com/wp
X-WR-CALDESC:Events for Minong Trails Club
REFRESH-INTERVAL;VALUE=DURATION:PT1H
X-Robots-Tag:noindex
X-PUBLISHED-TTL:PT1H
BEGIN:VTIMEZONE
TZID:America/Chicago
BEGIN:DAYLIGHT
TZOFFSETFROM:-0600
TZOFFSETTO:-0500
TZNAME:CDT
DTSTART:20250309T080000
END:DAYLIGHT
BEGIN:STANDARD
TZOFFSETFROM:-0500
TZOFFSETTO:-0600
TZNAME:CST
DTSTART:20251102T070000
END:STANDARD
BEGIN:DAYLIGHT
TZOFFSETFROM:-0600
TZOFFSETTO:-0500
TZNAME:CDT
DTSTART:20260308T080000
END:DAYLIGHT
BEGIN:STANDARD
TZOFFSETFROM:-0500
TZOFFSETTO:-0600
TZNAME:CST
DTSTART:20261101T070000
END:STANDARD
BEGIN:DAYLIGHT
TZOFFSETFROM:-0600
TZOFFSETTO:-0500
TZNAME:CDT
DTSTART:20270314T080000
END:DAYLIGHT
BEGIN:STANDARD
TZOFFSETFROM:-0500
TZOFFSETTO:-0600
TZNAME:CST
DTSTART:20271107T070000
END:STANDARD
END:VTIMEZONE
BEGIN:VEVENT
DTSTART;TZID=America/Chicago:20260613T140000
DTEND;TZID=America/Chicago:20260613T150000
DTSTAMP:20260423T113837
CREATED:20260327T165544Z
LAST-MODIFIED:20260327T165544Z
UID:1811-1781359200-1781362800@www.minongtrails.com
SUMMARY:Meat Raffle - Chubby Cheeks Bar & Grill
DESCRIPTION:Join the Minong Trail Club meat raffle crew at Chubby Cheeks Bar & Grill for another fun afternoon. For the small token of $10USD you can rent a paddle for all the spins. At halftime we will conduct 50/25/25 spins and again at the end to conclude the activities. The festivities begin at 2:00 PM so get there early to make sure you have your beverage of choice. Not a requirement but hey what’s a meat raffle without a beverage? Thanks to Chubby Cheeks Bar & Grill for hosting the Minong Trail Club.
URL:http://www.minongtrails.com/wp/event/meat-raffle-chubby-cheeks-bar-grill-2/
LOCATION:Chubby Cheeks Bar & Grill\, 16095 S. Chipmunk Hollow Road\, Wascott\, WI\, 54859
END:VEVENT
BEGIN:VEVENT
DTSTART;TZID=America/Chicago:20260616T180000
DTEND;TZID=America/Chicago:20260616T190000
DTSTAMP:20260423T113837
CREATED:20260211T141026Z
LAST-MODIFIED:20260211T141026Z
UID:1761-1781632800-1781636400@www.minongtrails.com
SUMMARY:Club Meeting
DESCRIPTION:Club meeting at the Trails Clubhouse starting at 6:00PM.
URL:http://www.minongtrails.com/wp/event/club-meeting-50/
LOCATION:Minong Trails Club\, 802 S. Railroad St\, Minong\, WI\, 54859\, United States
END:VEVENT
BEGIN:VEVENT
DTSTART;TZID=America/Chicago:20260627T140000
DTEND;TZID=America/Chicago:20260627T150000
DTSTAMP:20260423T113837
CREATED:20260327T170045Z
LAST-MODIFIED:20260327T172427Z
UID:1813-1782568800-1782572400@www.minongtrails.com
SUMMARY:Meat Raffle - Silver Lake Saloon
DESCRIPTION:Join the Minong Trail Club meat raffle crew at the Silver Lake Saloon for another fun afternoon. For the small token of $10USD you can rent a paddle for all the spins. We will have a 50/25/25 spin at half-time and another to conclude the raffle. The cost of the 50/25/25 paddle is $5 for each spin. The festivities begin at 2:00 PM so get there early to make sure you have your beverage of choice. Not a requirement but hey what’s a meat raffle without a beverage? Thanks to the Silver Lake Saloon for hosting the Minong Trail Club.
URL:http://www.minongtrails.com/wp/event/meat-raffle-silver-lake-saloon-3/
LOCATION:Silver Lake Saloon\, N9698 Lakeside Road\, Trego\, WI\, 54888\, United States
END:VEVENT
END:VCALENDAR