BEGIN:VCALENDAR
VERSION:2.0
PRODID:-//Minong Trails Club - ECPv6.15.20//NONSGML v1.0//EN
CALSCALE:GREGORIAN
METHOD:PUBLISH
X-WR-CALNAME:Minong Trails Club
X-ORIGINAL-URL:http://www.minongtrails.com/wp
X-WR-CALDESC:Events for Minong Trails Club
REFRESH-INTERVAL;VALUE=DURATION:PT1H
X-Robots-Tag:noindex
X-PUBLISHED-TTL:PT1H
BEGIN:VTIMEZONE
TZID:America/Chicago
BEGIN:DAYLIGHT
TZOFFSETFROM:-0600
TZOFFSETTO:-0500
TZNAME:CDT
DTSTART:20250309T080000
END:DAYLIGHT
BEGIN:STANDARD
TZOFFSETFROM:-0500
TZOFFSETTO:-0600
TZNAME:CST
DTSTART:20251102T070000
END:STANDARD
BEGIN:DAYLIGHT
TZOFFSETFROM:-0600
TZOFFSETTO:-0500
TZNAME:CDT
DTSTART:20260308T080000
END:DAYLIGHT
BEGIN:STANDARD
TZOFFSETFROM:-0500
TZOFFSETTO:-0600
TZNAME:CST
DTSTART:20261101T070000
END:STANDARD
BEGIN:DAYLIGHT
TZOFFSETFROM:-0600
TZOFFSETTO:-0500
TZNAME:CDT
DTSTART:20270314T080000
END:DAYLIGHT
BEGIN:STANDARD
TZOFFSETFROM:-0500
TZOFFSETTO:-0600
TZNAME:CST
DTSTART:20271107T070000
END:STANDARD
END:VTIMEZONE
BEGIN:VEVENT
DTSTART;TZID=America/Chicago:20260314T140000
DTEND;TZID=America/Chicago:20260314T150000
DTSTAMP:20260423T100410
CREATED:20260218T005455Z
LAST-MODIFIED:20260218T005455Z
UID:1779-1773496800-1773500400@www.minongtrails.com
SUMMARY:Meat Raffle - Bootleggers Bar & Grill
DESCRIPTION:Join the Minong Trail Club meat raffle crew at the Bootleggers Bar & Grill for another fun afternoon. For the small token of $10USD you can rent a paddle for all the spins. At half-time and at the conclusion of the raffle we will have a 50/25/25 opportunity for the low entry cost of $5 USD. The festivities begin at 2:00 PM so get there early to make sure you have your beverage of choice. Not a requirement but hey what’s a meat raffle without a beverage? Thanks to the Bootleggers Bar & Grill for hosting the Minong Trail Club.
URL:http://www.minongtrails.com/wp/event/meat-raffle-bootleggers-bar-grill-5/
LOCATION:Bootleggers Bar & Grill\, 16310 US-53\, Minong\, WI\, 54859\, United States
END:VEVENT
BEGIN:VEVENT
DTSTART;TZID=America/Chicago:20260317T180000
DTEND;TZID=America/Chicago:20260317T190000
DTSTAMP:20260423T100410
CREATED:20260211T140818Z
LAST-MODIFIED:20260211T140818Z
UID:1755-1773770400-1773774000@www.minongtrails.com
SUMMARY:Club Meeting
DESCRIPTION:Club meeting at the Trails Clubhouse starting at 6:00PM.
URL:http://www.minongtrails.com/wp/event/club-meeting-43/
LOCATION:Minong Trails Club\, 802 S. Railroad St\, Minong\, WI\, 54859\, United States
END:VEVENT
BEGIN:VEVENT
DTSTART;TZID=America/Chicago:20260328T140000
DTEND;TZID=America/Chicago:20260328T150000
DTSTAMP:20260423T100410
CREATED:20260306T133152Z
LAST-MODIFIED:20260327T172712Z
UID:1785-1774706400-1774710000@www.minongtrails.com
SUMMARY:Meat Raffle - Longbranch Saloon & Grille
DESCRIPTION:Join meat raffle team as they call out the winning numbers and present the prize for that spin at the Longbranch Saloon & Grill in Minong. The orange paddles are available for rent at $10 each and are valid for all prize giveaways. During half-time you will have the opportunity rent a green paddle for the 50/25/25 giveaway as well as at the conclusion of the prizes raffle. The festivities begin at 2:00 PM so arrive early to make sure you have your beverage of choice in hand\, not a requirement but why not. Thank you to the Longbranch Saloon & Grille for hosting and thank you for your support of our event.
URL:http://www.minongtrails.com/wp/event/meat-raffle-longbranch-saloon-grille/
LOCATION:Longbranch Saloon and Grill\, 301 5th Ave E\, Minong\, WI\, 54859\, United States
END:VEVENT
END:VCALENDAR