BEGIN:VCALENDAR
VERSION:2.0
PRODID:-//Minong Trails Club - ECPv6.15.20//NONSGML v1.0//EN
CALSCALE:GREGORIAN
METHOD:PUBLISH
X-ORIGINAL-URL:http://www.minongtrails.com/wp
X-WR-CALDESC:Events for Minong Trails Club
REFRESH-INTERVAL;VALUE=DURATION:PT1H
X-Robots-Tag:noindex
X-PUBLISHED-TTL:PT1H
BEGIN:VTIMEZONE
TZID:America/Chicago
BEGIN:DAYLIGHT
TZOFFSETFROM:-0600
TZOFFSETTO:-0500
TZNAME:CDT
DTSTART:20240310T080000
END:DAYLIGHT
BEGIN:STANDARD
TZOFFSETFROM:-0500
TZOFFSETTO:-0600
TZNAME:CST
DTSTART:20241103T070000
END:STANDARD
BEGIN:DAYLIGHT
TZOFFSETFROM:-0600
TZOFFSETTO:-0500
TZNAME:CDT
DTSTART:20250309T080000
END:DAYLIGHT
BEGIN:STANDARD
TZOFFSETFROM:-0500
TZOFFSETTO:-0600
TZNAME:CST
DTSTART:20251102T070000
END:STANDARD
BEGIN:DAYLIGHT
TZOFFSETFROM:-0600
TZOFFSETTO:-0500
TZNAME:CDT
DTSTART:20260308T080000
END:DAYLIGHT
BEGIN:STANDARD
TZOFFSETFROM:-0500
TZOFFSETTO:-0600
TZNAME:CST
DTSTART:20261101T070000
END:STANDARD
END:VTIMEZONE
BEGIN:VEVENT
DTSTART;TZID=America/Chicago:20250809T140000
DTEND;TZID=America/Chicago:20250809T150000
DTSTAMP:20260423T203914
CREATED:20250708T104255Z
LAST-MODIFIED:20250708T104354Z
UID:1671-1754748000-1754751600@www.minongtrails.com
SUMMARY:Meat Raffle - Bootleggers Bar & Grille
DESCRIPTION:Join the Minong Trail Club meat raffle crew at the Bootleggers Bar & Grill for another fun afternoon. For the small token of $10USD you can rent a paddle for all the spins. At half-time and at the conclusion of the raffle we will have a 50/25/25 opportunity for the low entry cost of $5 USD. The festivities begin at 2:00 PM so get there early to make sure you have your beverage of choice. Not a requirement but hey what’s a meat raffle without a beverage? Thanks to the Bootleggers Bar & Grill for hosting the Minong Trail Club.
URL:http://www.minongtrails.com/wp/event/meat-raffle-bootleggers-bar-grille/
LOCATION:Bootleggers Bar & Grill\, 16310 US-53\, Minong\, WI\, 54859\, United States
END:VEVENT
BEGIN:VEVENT
DTSTART;TZID=America/Chicago:20250819T180000
DTEND;TZID=America/Chicago:20250819T190000
DTSTAMP:20260423T203914
CREATED:20250113T173627Z
LAST-MODIFIED:20250113T174207Z
UID:1561-1755626400-1755630000@www.minongtrails.com
SUMMARY:Club Meeting
DESCRIPTION:Club meeting at the Trails Clubhouse starting at 6:00PM.
URL:http://www.minongtrails.com/wp/event/club-meeting-40/
LOCATION:Minong Trails Club\, 802 S. Railroad St\, Minong\, WI\, 54859\, United States
END:VEVENT
BEGIN:VEVENT
DTSTART;TZID=America/Chicago:20250823T130000
DTEND;TZID=America/Chicago:20250823T160000
DTSTAMP:20260423T203914
CREATED:20250622T232457Z
LAST-MODIFIED:20250710T183522Z
UID:1654-1755954000-1755964800@www.minongtrails.com
SUMMARY:Meat Raffle - Town of Chicog Fun Fest
DESCRIPTION:Join the Minong Trail Club meat raffle crew at the Town of Chicog Fun Fest for another fun afternoon. For the small token of $10USD you can rent a paddle for all the spins. At halftime we will conduct 50/25/25 spins and again at the end to conclude the activities. There will be two raffles today festivities begin at 1:00 PM with the second raffle beginning at 3:00 PM. Get there early to enjoy all the Fun Fest activities. Thanks to the Town of Chicog for hosting the Minong Trail Club.
URL:http://www.minongtrails.com/wp/event/meat-raffle-town-of-chicog-fun-fest/
LOCATION:Town of Chicog\, W8499 State Hwy 77\, Trego\, WI\, 54888
END:VEVENT
END:VCALENDAR