BEGIN:VCALENDAR
VERSION:2.0
PRODID:-//Minong Trails Club - ECPv6.15.20//NONSGML v1.0//EN
CALSCALE:GREGORIAN
METHOD:PUBLISH
X-WR-CALNAME:Minong Trails Club
X-ORIGINAL-URL:http://www.minongtrails.com/wp
X-WR-CALDESC:Events for Minong Trails Club
REFRESH-INTERVAL;VALUE=DURATION:PT1H
X-Robots-Tag:noindex
X-PUBLISHED-TTL:PT1H
BEGIN:VTIMEZONE
TZID:America/Chicago
BEGIN:DAYLIGHT
TZOFFSETFROM:-0600
TZOFFSETTO:-0500
TZNAME:CDT
DTSTART:20230312T080000
END:DAYLIGHT
BEGIN:STANDARD
TZOFFSETFROM:-0500
TZOFFSETTO:-0600
TZNAME:CST
DTSTART:20231105T070000
END:STANDARD
BEGIN:DAYLIGHT
TZOFFSETFROM:-0600
TZOFFSETTO:-0500
TZNAME:CDT
DTSTART:20240310T080000
END:DAYLIGHT
BEGIN:STANDARD
TZOFFSETFROM:-0500
TZOFFSETTO:-0600
TZNAME:CST
DTSTART:20241103T070000
END:STANDARD
BEGIN:DAYLIGHT
TZOFFSETFROM:-0600
TZOFFSETTO:-0500
TZNAME:CDT
DTSTART:20250309T080000
END:DAYLIGHT
BEGIN:STANDARD
TZOFFSETFROM:-0500
TZOFFSETTO:-0600
TZNAME:CST
DTSTART:20251102T070000
END:STANDARD
END:VTIMEZONE
BEGIN:VEVENT
DTSTART;TZID=America/Chicago:20240608T140000
DTEND;TZID=America/Chicago:20240608T150000
DTSTAMP:20260424T141443
CREATED:20240520T142640Z
LAST-MODIFIED:20241203T211140Z
UID:1360-1717855200-1717858800@www.minongtrails.com
SUMMARY:Meat Raffle - Silver Lake Saloon
DESCRIPTION:Join the Minong Trail Club meat raffle crew at the Silver Lake Saloon for another fun afternoon. For the small token of $10USD you can rent a paddle for all the spins. After all prizes are awarded the paddles will be gathered and you can re-rent them again for the extremally low price of $5USD each to be in a 50/50 spin. The festivities begin at 2:00 PM so get there early to make sure you have your beverage of choice. Not a requirement but hey what’s a meat raffle without a beverage? Thanks to the Silver Lake Saloon for hosting the Minong Trail Club.
URL:http://www.minongtrails.com/wp/event/meat-raffle-silver-lake-saloon-2/
LOCATION:Silver Lake Saloon\, N9698 Lakeside Road\, Trego\, WI\, 54888\, United States
END:VEVENT
BEGIN:VEVENT
DTSTART;TZID=America/Chicago:20240618T180000
DTEND;TZID=America/Chicago:20240618T190000
DTSTAMP:20260424T141443
CREATED:20231001T164124Z
LAST-MODIFIED:20240413T175411Z
UID:1167-1718733600-1718737200@www.minongtrails.com
SUMMARY:Club Meeting
DESCRIPTION:Club meeting at the Trails Clubhouse starting at 6:00PM.
URL:http://www.minongtrails.com/wp/event/club-meeting-28/
LOCATION:Minong Trails Club\, 802 S. Railroad St\, Minong\, WI\, 54859\, United States
END:VEVENT
BEGIN:VEVENT
DTSTART;TZID=America/Chicago:20240622T140000
DTEND;TZID=America/Chicago:20240622T150000
DTSTAMP:20260424T141443
CREATED:20240611T010756Z
LAST-MODIFIED:20240611T011136Z
UID:1377-1719064800-1719068400@www.minongtrails.com
SUMMARY:Meat Raffle - Bootleggers Bar & Grill
DESCRIPTION:Join the Minong Trail Club meat raffle crew at the Bootleggers Bar & Grill for another fun afternoon. For the small token of $10USD you can rent a paddle for all the spins. After all prizes are awarded the paddles will be gathered and you can re-rent them again for the extremally low price of $5USD each to be in a 50/50 spin. The festivities begin at 2:00 PM so get there early to make sure you have your beverage of choice. Not a requirement but hey what’s a meat raffle without a beverage? Thanks to the Bootleggers Bar & Grill for hosting the Minong Trail Club.
URL:http://www.minongtrails.com/wp/event/meat-raffle-bootleggers-bar-grill-3/
LOCATION:Bootleggers Bar & Grill\, 16310 US-53\, Minong\, WI\, 54859\, United States
END:VEVENT
END:VCALENDAR