BEGIN:VCALENDAR
VERSION:2.0
PRODID:-//Minong Trails Club - ECPv6.15.20//NONSGML v1.0//EN
CALSCALE:GREGORIAN
METHOD:PUBLISH
X-ORIGINAL-URL:http://www.minongtrails.com/wp
X-WR-CALDESC:Events for Minong Trails Club
REFRESH-INTERVAL;VALUE=DURATION:PT1H
X-Robots-Tag:noindex
X-PUBLISHED-TTL:PT1H
BEGIN:VTIMEZONE
TZID:America/Chicago
BEGIN:DAYLIGHT
TZOFFSETFROM:-0600
TZOFFSETTO:-0500
TZNAME:CDT
DTSTART:20210314T080000
END:DAYLIGHT
BEGIN:STANDARD
TZOFFSETFROM:-0500
TZOFFSETTO:-0600
TZNAME:CST
DTSTART:20211107T070000
END:STANDARD
BEGIN:DAYLIGHT
TZOFFSETFROM:-0600
TZOFFSETTO:-0500
TZNAME:CDT
DTSTART:20220313T080000
END:DAYLIGHT
BEGIN:STANDARD
TZOFFSETFROM:-0500
TZOFFSETTO:-0600
TZNAME:CST
DTSTART:20221106T070000
END:STANDARD
BEGIN:DAYLIGHT
TZOFFSETFROM:-0600
TZOFFSETTO:-0500
TZNAME:CDT
DTSTART:20230312T080000
END:DAYLIGHT
BEGIN:STANDARD
TZOFFSETFROM:-0500
TZOFFSETTO:-0600
TZNAME:CST
DTSTART:20231105T070000
END:STANDARD
END:VTIMEZONE
BEGIN:VEVENT
DTSTART;TZID=America/Chicago:20221109T180000
DTEND;TZID=America/Chicago:20221109T190000
DTSTAMP:20260425T111115
CREATED:20220227T174706Z
LAST-MODIFIED:20220227T174903Z
UID:657-1668016800-1668020400@www.minongtrails.com
SUMMARY:Club Meeting
DESCRIPTION:Club meeting at the Trails Clubhouse starting at 6:00PM.
URL:http://www.minongtrails.com/wp/event/club-meeting-8/
LOCATION:WI
END:VEVENT
BEGIN:VEVENT
DTSTART;TZID=America/Chicago:20221112T140000
DTEND;TZID=America/Chicago:20221112T150000
DTSTAMP:20260425T111115
CREATED:20220812T153223Z
LAST-MODIFIED:20220812T153223Z
UID:890-1668261600-1668265200@www.minongtrails.com
SUMMARY:Meat Raffle - Gruzy's
DESCRIPTION:Join the Minong Trail Club travelling meat raffle crew at Gruzy’s Italian Beef House & Pub for another fun afternoon. For the small token of $10USD you can rent a paddle for all the spins. After all prizes are awarded the paddles will be gathered and you can re-rent them again for the extremally low price of $5USD each to be in a 50/50 spin. The festivities begin at 2:00 PM so get there early to make sure you have your beverage of choice. Not a requirement but hey what’s a meat raffle without a beverage? Thanks to Gruzy’s Italian Beef House & Pub for hosting the Minong Trail Club.
URL:http://www.minongtrails.com/wp/event/meat-raffle-gruzys/
LOCATION:Gruzy’s Italian Beef House & Pub\, W6649 Nancy Lake Road\, Minong\, WI\, 54859\, United States
END:VEVENT
BEGIN:VEVENT
DTSTART;VALUE=DATE:20221126
DTEND;VALUE=DATE:20221127
DTSTAMP:20260425T111115
CREATED:20220227T173446Z
LAST-MODIFIED:20221016T162413Z
UID:639-1669420800-1669507199@www.minongtrails.com
SUMMARY:Meat Raffle- Postponed
DESCRIPTION:Due to the Thanksgiving weekend and the Wisconsin deer firearms season the meat raffle that would normally be held today has been postponed.  As always thank you for your support of the Minong Trails Club and to all of our club sponsors.
URL:http://www.minongtrails.com/wp/event/meat-raffle-_-longbranch-smokehouse-grille-2/
LOCATION:Longbranch Saloon and Grill\, 301 5th Ave E\, Minong\, WI\, 54859\, United States
END:VEVENT
END:VCALENDAR