BEGIN:VCALENDAR
VERSION:2.0
PRODID:-//Minong Trails Club - ECPv6.15.20//NONSGML v1.0//EN
CALSCALE:GREGORIAN
METHOD:PUBLISH
X-WR-CALNAME:Minong Trails Club
X-ORIGINAL-URL:http://www.minongtrails.com/wp
X-WR-CALDESC:Events for Minong Trails Club
REFRESH-INTERVAL;VALUE=DURATION:PT1H
X-Robots-Tag:noindex
X-PUBLISHED-TTL:PT1H
BEGIN:VTIMEZONE
TZID:America/Chicago
BEGIN:DAYLIGHT
TZOFFSETFROM:-0600
TZOFFSETTO:-0500
TZNAME:CDT
DTSTART:20230312T080000
END:DAYLIGHT
BEGIN:STANDARD
TZOFFSETFROM:-0500
TZOFFSETTO:-0600
TZNAME:CST
DTSTART:20231105T070000
END:STANDARD
BEGIN:DAYLIGHT
TZOFFSETFROM:-0600
TZOFFSETTO:-0500
TZNAME:CDT
DTSTART:20240310T080000
END:DAYLIGHT
BEGIN:STANDARD
TZOFFSETFROM:-0500
TZOFFSETTO:-0600
TZNAME:CST
DTSTART:20241103T070000
END:STANDARD
BEGIN:DAYLIGHT
TZOFFSETFROM:-0600
TZOFFSETTO:-0500
TZNAME:CDT
DTSTART:20250309T080000
END:DAYLIGHT
BEGIN:STANDARD
TZOFFSETFROM:-0500
TZOFFSETTO:-0600
TZNAME:CST
DTSTART:20251102T070000
END:STANDARD
BEGIN:DAYLIGHT
TZOFFSETFROM:-0600
TZOFFSETTO:-0500
TZNAME:CDT
DTSTART:20260308T080000
END:DAYLIGHT
BEGIN:STANDARD
TZOFFSETFROM:-0500
TZOFFSETTO:-0600
TZNAME:CST
DTSTART:20261101T070000
END:STANDARD
END:VTIMEZONE
BEGIN:VEVENT
DTSTART;TZID=America/Chicago:20250614T140000
DTEND;TZID=America/Chicago:20250614T150000
DTSTAMP:20260423T161038
CREATED:20250328T185859Z
LAST-MODIFIED:20250521T153322Z
UID:1630-1749909600-1749913200@www.minongtrails.com
SUMMARY:Meat Raffle - Longbranch Saloon & Grill
DESCRIPTION:Join meat raffle team as they call out the winning numbers and present the prize for that spin at the Longbranch Saloon & Grill in Minong. The orange paddles are available for rent at $10 each and are valid for all prize giveaways. During half-time you will have the opportunity rent a green paddle for the 50/25/25 giveaway as well as at the conclusion of the prizes raffle. The festivities begin at 2:00 PM so arrive early to make sure you have your beverage of choice in hand\, not a requirement but why not. Thank you to the Longbranch Saloon & Grille for hosting and thank you for your support of our event.
URL:http://www.minongtrails.com/wp/event/meat-raffle-longbranch-saloon-grill-2/
LOCATION:Longbranch Saloon and Grill\, 301 5th Ave E\, Minong\, WI\, 54859\, United States
END:VEVENT
BEGIN:VEVENT
DTSTART;VALUE=DATE:20250524
DTEND;VALUE=DATE:20250525
DTSTAMP:20260423T161038
CREATED:20240315T234444Z
LAST-MODIFIED:20250328T190535Z
UID:1318-1748044800-1748131199@www.minongtrails.com
SUMMARY:No Meat Raffle Today Hot Dog-Brat feed Tomorrow
DESCRIPTION:
URL:http://www.minongtrails.com/wp/event/no-meat-raffle-today-hotdog-brat-feed-tomorrow/
END:VEVENT
BEGIN:VEVENT
DTSTART;TZID=America/Chicago:20250520T180000
DTEND;TZID=America/Chicago:20250520T190000
DTSTAMP:20260423T161038
CREATED:20250113T173543Z
LAST-MODIFIED:20250113T173543Z
UID:1559-1747764000-1747767600@www.minongtrails.com
SUMMARY:Club Meeting
DESCRIPTION:Club meeting at the Trails Clubhouse starting at 6:00PM.
URL:http://www.minongtrails.com/wp/event/club-meeting-39/
LOCATION:Minong Trails Club\, 802 S. Railroad St\, Minong\, WI\, 54859\, United States
END:VEVENT
BEGIN:VEVENT
DTSTART;TZID=America/Chicago:20250510T140000
DTEND;TZID=America/Chicago:20250510T150000
DTSTAMP:20260423T161038
CREATED:20250328T185536Z
LAST-MODIFIED:20250328T185536Z
UID:1628-1746885600-1746889200@www.minongtrails.com
SUMMARY:Meat Raffle - P&L Corner Bar
DESCRIPTION:Join the Minong Trail Club meat raffle crew at the P&L Corner Bar for another fun afternoon. For the small token of $10USD you can rent a paddle for all the spins. We will have a 50/50 opportunity at halftime as well at the conclusion of the activities. The festivities begin at 2:00 PM so get there early to make sure you have your beverage of choice. Not a requirement but hey what’s a meat raffle without a beverage? Thanks to the P&L Corner Bar for hosting the Minong Trail Club.
URL:http://www.minongtrails.com/wp/event/meat-raffle-pl-corner-bar-7/
LOCATION:P&L Corner Bar\, 203 W. 5th Ave\, Minong\, WI\, 54859\, United States
END:VEVENT
BEGIN:VEVENT
DTSTART;TZID=America/Chicago:20250426T140000
DTEND;TZID=America/Chicago:20250426T150000
DTSTAMP:20260423T161038
CREATED:20250328T185247Z
LAST-MODIFIED:20250328T185247Z
UID:1626-1745676000-1745679600@www.minongtrails.com
SUMMARY:Meat Raffle - Stanberry Rail Saloon
DESCRIPTION:Join the Minong Trail Club meat raffle crew along with new owners Lori & Ted at the Stanberry Rail Saloon for another fun afternoon. For the small token of $10USD you can rent a paddle for all the spins. We will conduct a 50/50 raffle during halftime and also to conclude the activities. The festivities begin at 2:00 PM so get there early to make sure you have your beverage of choice. Not a requirement but hey what’s a meat raffle without a beverage? Thanks to Lori & Ted for hosting the Minong Trail Club.
URL:http://www.minongtrails.com/wp/event/meat-raffle-stanberry-rail-saloon-5/
LOCATION:Stanberry Rail Saloon\, N10303 County Hwy M\, Springbrook\, WI\, 54875\, United States
END:VEVENT
BEGIN:VEVENT
DTSTART;TZID=America/Chicago:20250415T180000
DTEND;TZID=America/Chicago:20250415T190000
DTSTAMP:20260423T161038
CREATED:20250113T173500Z
LAST-MODIFIED:20250113T173500Z
UID:1557-1744740000-1744743600@www.minongtrails.com
SUMMARY:Club Meeting
DESCRIPTION:Club meeting at the Trails Clubhouse starting at 6:00PM.
URL:http://www.minongtrails.com/wp/event/club-meeting-38/
LOCATION:Minong Trails Club\, 802 S. Railroad St\, Minong\, WI\, 54859\, United States
END:VEVENT
BEGIN:VEVENT
DTSTART;TZID=America/Chicago:20250412T140000
DTEND;TZID=America/Chicago:20250412T150000
DTSTAMP:20260423T161038
CREATED:20250328T184921Z
LAST-MODIFIED:20250328T184921Z
UID:1624-1744466400-1744470000@www.minongtrails.com
SUMMARY:Meat Raffle - Wolf Point Bar & Grill
DESCRIPTION:Join the Minong Trail Club meat raffle crew at Wolf Point Bar & Grill for another fun afternoon. For the small token of $10USD you can rent a paddle for all the spins. At halftime we will conduct a 50/50 spin and again at the end to conclude the activities. The festivities begin at 2:00 PM so get there early to make sure you have your beverage of choice. Not a requirement but hey what’s a meat raffle without a beverage? Thanks to Wolf Point Bar & Grill for hosting the Minong Trail Club.
URL:http://www.minongtrails.com/wp/event/meat-raffle-wolf-point-bar-grill-7/
LOCATION:Wolf Point Bar & Grill\, W4186 County Hwy F\, Springbrook\, WI\, 54875\, United States
END:VEVENT
BEGIN:VEVENT
DTSTART;TZID=America/Chicago:20250322T140000
DTEND;TZID=America/Chicago:20250322T150000
DTSTAMP:20260423T161038
CREATED:20250308T125443Z
LAST-MODIFIED:20250308T125443Z
UID:1588-1742652000-1742655600@www.minongtrails.com
SUMMARY:Meat Raffle - Webb Lake Tavern NEW LOCATION
DESCRIPTION:Join the Minong Trail Club meat raffle crew at Webb Lake Tavern for another fun afternoon. For the small token of $10USD you can rent a paddle for all the spins. After all prizes are awarded the paddles will be gathered and you can re-rent them again for the extremally low price of $5USD each to be in a 50/50 spin. The festivities begin at 2:00 PM so get there early to make sure you have your beverage of choice. Not a requirement but hey what’s a meat raffle without a beverage? Thanks to Webb Lake Tavern for hosting the Minong Trail Club.
URL:http://www.minongtrails.com/wp/event/meat-raffle-webb-lake-tavern-new-location/
LOCATION:Webb Lake Tavern\, 30925 Namekagon Road\, Danbury\, WI\, 54830\, United States
END:VEVENT
BEGIN:VEVENT
DTSTART;TZID=America/Chicago:20250318T180000
DTEND;TZID=America/Chicago:20250318T190000
DTSTAMP:20260423T161038
CREATED:20250113T173415Z
LAST-MODIFIED:20250113T173415Z
UID:1555-1742320800-1742324400@www.minongtrails.com
SUMMARY:Club Meeting
DESCRIPTION:Club meeting at the Trails Clubhouse starting at 6:00PM.
URL:http://www.minongtrails.com/wp/event/club-meeting-37/
LOCATION:Minong Trails Club\, 802 S. Railroad St\, Minong\, WI\, 54859\, United States
END:VEVENT
BEGIN:VEVENT
DTSTART;TZID=America/Chicago:20250308T140000
DTEND;TZID=America/Chicago:20250308T150000
DTSTAMP:20260423T161038
CREATED:20250225T204252Z
LAST-MODIFIED:20250225T204338Z
UID:1584-1741442400-1741446000@www.minongtrails.com
SUMMARY:Meat Raffle - Pappy's Bar
DESCRIPTION:Join the Minong Trail Club meat raffle crew at Pappy’s Bar. For the small token of $10USD you can rent a paddle for all the spins. After all prizes are awarded the paddles will be gathered and you can re-rent them for the extremally low price of $5USD each to be in a 50/50 spin. The festivities begin at 2:00 PM so get there early to make sure you have your beverage of choice. Not a requirement but hey what’s a meat raffle without a beverage? Thanks to the Pappy’s Bar for hosting the Minong Trail Club.
URL:http://www.minongtrails.com/wp/event/meat-raffle-pappys-bar-7/
LOCATION:Pappy’s Bar\, W8296 Highway 77\, Trego\, WI\, 54888\, United States
END:VEVENT
BEGIN:VEVENT
DTSTART;TZID=America/Chicago:20250222T140000
DTEND;TZID=America/Chicago:20250222T150000
DTSTAMP:20260423T161038
CREATED:20250125T000806Z
LAST-MODIFIED:20250125T000806Z
UID:1579-1740232800-1740236400@www.minongtrails.com
SUMMARY:Meat Raffle - Outback Bar
DESCRIPTION:Join the Minong Trail Club meat raffle crew at Outback Bar for another fun afternoon. For the small token of $10USD you can rent a paddle for all the spins. After all prizes are awarded the paddles will be gathered and you can re-rent them again for the extremally low price of $5USD each to be in a 50/50 spin. The festivities begin at 2:00 PM so get there early to make sure you have your beverage of choice. Not a requirement but hey what’s a meat raffle without a beverage? Thanks to the Outback Bar and Pizza for hosting the Minong Trail Club.
URL:http://www.minongtrails.com/wp/event/meat-raffle-outback-bar/
LOCATION:Outback Bar\, W904 WI-77\, Hayward\, WI\, 54843\, United States
END:VEVENT
BEGIN:VEVENT
DTSTART;TZID=America/Chicago:20250218T180000
DTEND;TZID=America/Chicago:20250218T190000
DTSTAMP:20260423T161038
CREATED:20250113T173344Z
LAST-MODIFIED:20250113T173344Z
UID:1553-1739901600-1739905200@www.minongtrails.com
SUMMARY:Club Meeting
DESCRIPTION:Club meeting at the Trails Clubhouse starting at 6:00PM.
URL:http://www.minongtrails.com/wp/event/club-meeting-36/
LOCATION:Minong Trails Club\, 802 S. Railroad St\, Minong\, WI\, 54859\, United States
END:VEVENT
BEGIN:VEVENT
DTSTART;TZID=America/Chicago:20250208T140000
DTEND;TZID=America/Chicago:20250208T150000
DTSTAMP:20260423T161038
CREATED:20250125T000954Z
LAST-MODIFIED:20250125T000954Z
UID:1582-1739023200-1739026800@www.minongtrails.com
SUMMARY:Meat Raffle - Bootleggers Bar & Grill
DESCRIPTION:Join the Minong Trail Club meat raffle crew at the Bootleggers Bar & Grill for another fun afternoon. For the small token of $10USD you can rent a paddle for all the spins. After all prizes are awarded the paddles will be gathered and you can re-rent them again for the extremally low price of $5USD each to be in a 50/50 spin. The festivities begin at 2:00 PM so get there early to make sure you have your beverage of choice. Not a requirement but hey what’s a meat raffle without a beverage? Thanks to the Bootleggers Bar & Grill for hosting the Minong Trail Club.
URL:http://www.minongtrails.com/wp/event/meat-raffle-bootleggers-bar-grill-4/
LOCATION:Bootleggers Bar & Grill\, 16310 US-53\, Minong\, WI\, 54859\, United States
END:VEVENT
BEGIN:VEVENT
DTSTART;TZID=America/Chicago:20250125T140000
DTEND;TZID=America/Chicago:20250125T150000
DTSTAMP:20260423T161038
CREATED:20250106T174328Z
LAST-MODIFIED:20250106T174328Z
UID:1541-1737813600-1737817200@www.minongtrails.com
SUMMARY:Meat Raffle - Longbranch Saloon & Grill
DESCRIPTION:Join meat raffle team as they call out the winning numbers and present the prize for that spin at the Longbranch Saloon & Grill in Minong. Paddles are available for rent at $10 each and are valid for all spins. After all the prizes have been awarded the paddles will be collected and then rented again for $5 each for a 50/50 spin. The festivities begin at 2:00 PM so arrive early to make sure you have your beverage of choice in hand\, not a requirement but why not. Thank you for your support of our event.
URL:http://www.minongtrails.com/wp/event/meat-raffle-longbranch-saloon-grill/
LOCATION:Longbranch Saloon and Grill\, 301 5th Ave E\, Minong\, WI\, 54859\, United States
END:VEVENT
BEGIN:VEVENT
DTSTART;TZID=America/Chicago:20250121T180000
DTEND;TZID=America/Chicago:20250121T190000
DTSTAMP:20260423T161038
CREATED:20250113T173308Z
LAST-MODIFIED:20250113T173308Z
UID:1551-1737482400-1737486000@www.minongtrails.com
SUMMARY:Club Meeting
DESCRIPTION:Club meeting at the Trails Clubhouse starting at 6:00PM.
URL:http://www.minongtrails.com/wp/event/club-meeting-35/
LOCATION:Minong Trails Club\, 802 S. Railroad St\, Minong\, WI\, 54859\, United States
END:VEVENT
BEGIN:VEVENT
DTSTART;TZID=America/Chicago:20250111T140000
DTEND;TZID=America/Chicago:20250111T150000
DTSTAMP:20260423T161038
CREATED:20241218T150644Z
LAST-MODIFIED:20241218T150644Z
UID:1481-1736604000-1736607600@www.minongtrails.com
SUMMARY:Meat Raffle P&L Corner Bar
DESCRIPTION:Join the Minong Trail Club meat raffle crew at the P&L Corner Bar for another fun afternoon. For the small token of $10USD you can rent a paddle for all the spins. After all prizes are awarded the paddles will be gathered and you can re-rent them again for the extremally low price of $5USD each to be in a 50/50 spin. The festivities begin at 2:00 PM so get there early to make sure you have your beverage of choice. Not a requirement but hey what’s a meat raffle without a beverage? Thanks to the P&L Corner Bar for hosting the Minong Trail Club.
URL:http://www.minongtrails.com/wp/event/meat-raffle-pl-corner-bar-6/
LOCATION:P&L Corner Bar\, 203 W. 5th Ave\, Minong\, WI\, 54859\, United States
END:VEVENT
BEGIN:VEVENT
DTSTART;VALUE=DATE:20250101
DTEND;VALUE=DATE:20250102
DTSTAMP:20260423T161038
CREATED:20240729T211802Z
LAST-MODIFIED:20240729T211802Z
UID:1390-1735689600-1735775999@www.minongtrails.com
SUMMARY:Happy New Years
DESCRIPTION:
URL:http://www.minongtrails.com/wp/event/happy-new-years/
END:VEVENT
BEGIN:VEVENT
DTSTART;VALUE=DATE:20241225
DTEND;VALUE=DATE:20241226
DTSTAMP:20260423T161038
CREATED:20240729T211719Z
LAST-MODIFIED:20240729T211719Z
UID:1388-1735084800-1735171199@www.minongtrails.com
SUMMARY:Merry Christmas
DESCRIPTION:
URL:http://www.minongtrails.com/wp/event/merry-christmas/
END:VEVENT
BEGIN:VEVENT
DTSTART;TZID=America/Chicago:20241217T180000
DTEND;TZID=America/Chicago:20241217T190000
DTSTAMP:20260423T161038
CREATED:20231001T164637Z
LAST-MODIFIED:20240413T175130Z
UID:1179-1734458400-1734462000@www.minongtrails.com
SUMMARY:Club Meeting
DESCRIPTION:Club meeting at the Trails Clubhouse starting at 6:00PM.
URL:http://www.minongtrails.com/wp/event/club-meeting-34/
LOCATION:Minong Trails Club\, 802 S. Railroad St\, Minong\, WI\, 54859\, United States
END:VEVENT
BEGIN:VEVENT
DTSTART;TZID=America/Chicago:20241214T140000
DTEND;TZID=America/Chicago:20241214T150000
DTSTAMP:20260423T161038
CREATED:20241115T143645Z
LAST-MODIFIED:20241115T143645Z
UID:1469-1734184800-1734188400@www.minongtrails.com
SUMMARY:Meat Raffle - Wolf Point Bar & Grill
DESCRIPTION:Join the Minong Trail Club meat raffle crew at Wolf Point Bar & Grill for another fun afternoon. For the small token of $10USD you can rent a paddle for all the spins. After all prizes are awarded the paddles will be gathered and you can re-rent them again for the extremally low price of $5USD each to be in a 50/50 spin. The festivities begin at 2:00 PM so get there early to make sure you have your beverage of choice. Not a requirement but hey what’s a meat raffle without a beverage? Thanks to Wolf Point Bar & Grill for hosting the Minong Trail Club.
URL:http://www.minongtrails.com/wp/event/meat-raffle-wolf-point-bar-grill-6/
LOCATION:Wolf Point Bar & Grill\, W4186 County Hwy F\, Springbrook\, WI\, 54875\, United States
END:VEVENT
BEGIN:VEVENT
DTSTART;TZID=America/Chicago:20241214T080000
DTEND;TZID=America/Chicago:20241214T170000
DTSTAMP:20260423T161038
CREATED:20241115T145214Z
LAST-MODIFIED:20241115T145505Z
UID:1474-1734163200-1734195600@www.minongtrails.com
SUMMARY:Four Seasons Recreation Club - Snowmobile / ATV  WI Safety Certificate Class
DESCRIPTION:The Four Seasons Recreation Club is holding a Wisconsin DNR Safety Course for Snowmobile & ATV at the Jack Link Aquatic and Activity Center. Class starts at 8AM and completes approximately at 5PM. \nJack Link’s Aquatic & Activity Center \n 
URL:http://www.minongtrails.com/wp/event/four-seasons-recreation-club-snowmobile-atv-wi-safety-certificate-class/
LOCATION:Jack Link Aquatic and Activity Center\, 714 W Hokah St\, Minong\, WI\, 54859\, United States
END:VEVENT
BEGIN:VEVENT
DTSTART;VALUE=DATE:20241128
DTEND;VALUE=DATE:20241129
DTSTAMP:20260423T161038
CREATED:20240729T211624Z
LAST-MODIFIED:20240729T211624Z
UID:1386-1732752000-1732838399@www.minongtrails.com
SUMMARY:Happy Thanksgiving 🦃
DESCRIPTION: 
URL:http://www.minongtrails.com/wp/event/happy-thanksgiving-%f0%9f%a6%83/
END:VEVENT
BEGIN:VEVENT
DTSTART;VALUE=DATE:20241123
DTEND;VALUE=DATE:20241124
DTSTAMP:20260423T161038
CREATED:20240729T211319Z
LAST-MODIFIED:20240729T211319Z
UID:1384-1732320000-1732406399@www.minongtrails.com
SUMMARY:No Meat Raffle
DESCRIPTION:The club does not have a meat raffle today.
URL:http://www.minongtrails.com/wp/event/no-meat-raffle-2/
END:VEVENT
BEGIN:VEVENT
DTSTART;TZID=America/Chicago:20241119T180000
DTEND;TZID=America/Chicago:20241119T190000
DTSTAMP:20260423T161038
CREATED:20231001T164554Z
LAST-MODIFIED:20240413T175158Z
UID:1177-1732039200-1732042800@www.minongtrails.com
SUMMARY:Club Meeting
DESCRIPTION:Club meeting at the Trails Clubhouse starting at 6:00PM.
URL:http://www.minongtrails.com/wp/event/club-meeting-33/
LOCATION:Minong Trails Club\, 802 S. Railroad St\, Minong\, WI\, 54859\, United States
END:VEVENT
BEGIN:VEVENT
DTSTART;TZID=America/Chicago:20241109T140000
DTEND;TZID=America/Chicago:20241109T150000
DTSTAMP:20260423T161038
CREATED:20241028T130009Z
LAST-MODIFIED:20241028T130009Z
UID:1467-1731160800-1731164400@www.minongtrails.com
SUMMARY:Meat Raffle - Pappy's Bar
DESCRIPTION:Join the Minong Trail Club meat raffle crew at Pappy’s Bar. For the small token of $10USD you can rent a paddle for all the spins. After all prizes are awarded the paddles will be gathered and you can re-rent them for the extremally low price of $5USD each to be in a 50/50 spin. The festivities begin at 2:00 PM so get there early to make sure you have your beverage of choice. Not a requirement but hey what’s a meat raffle without a beverage? Thanks to the Pappy’s Bar for hosting the Minong Trail Club.
URL:http://www.minongtrails.com/wp/event/meat-raffle-pappys-bar-6/
LOCATION:Pappy’s Bar\, W8296 Highway 77\, Trego\, WI\, 54888\, United States
END:VEVENT
BEGIN:VEVENT
DTSTART;TZID=America/Chicago:20241102T100000
DTEND;TZID=America/Chicago:20241102T120000
DTSTAMP:20260423T161038
CREATED:20241023T032242Z
LAST-MODIFIED:20241023T032242Z
UID:1462-1730541600-1730548800@www.minongtrails.com
SUMMARY:Equipment Day
DESCRIPTION:The club will be hosting an equipment day for club members to learn how to run equipment and see if you would like to get more involved. If you are interested please send a note to info@minongtrialsclub.com so we have an idea as to how many attendees to expect.
URL:http://www.minongtrails.com/wp/event/equipment-day/
LOCATION:Minong Trails Club\, 802 S. Railroad St\, Minong\, WI\, 54859\, United States
END:VEVENT
BEGIN:VEVENT
DTSTART;TZID=America/Chicago:20241026T140000
DTEND;TZID=America/Chicago:20241026T150000
DTSTAMP:20260423T161039
CREATED:20241003T150349Z
LAST-MODIFIED:20241003T150349Z
UID:1456-1729951200-1729954800@www.minongtrails.com
SUMMARY:Meat Raffle - Outback Bar and Pizza
DESCRIPTION:Join the Minong Trail Club meat raffle crew at Outback Bar and Pizza for another fun afternoon. For the small token of $10USD you can rent a paddle for all the spins. After all prizes are awarded the paddles will be gathered and you can re-rent them again for the extremally low price of $5USD each to be in a 50/50 spin. The festivities begin at 2:00 PM so get there early to make sure you have your beverage of choice. Not a requirement but hey what’s a meat raffle without a beverage? Thanks to the Outback Bar and Pizza for hosting the Minong Trail Club.
URL:http://www.minongtrails.com/wp/event/meat-raffle-outback-bar-and-pizza-2/
LOCATION:Outback Bar\, W904 WI-77\, Hayward\, WI\, 54843\, United States
END:VEVENT
BEGIN:VEVENT
DTSTART;TZID=America/Chicago:20241015T180000
DTEND;TZID=America/Chicago:20241015T190000
DTSTAMP:20260423T161039
CREATED:20231001T164504Z
LAST-MODIFIED:20240413T175220Z
UID:1175-1729015200-1729018800@www.minongtrails.com
SUMMARY:Club Meeting
DESCRIPTION:Club meeting at the Trails Clubhouse starting at 6:00PM.
URL:http://www.minongtrails.com/wp/event/club-meeting-32/
LOCATION:Minong Trails Club\, 802 S. Railroad St\, Minong\, WI\, 54859\, United States
END:VEVENT
BEGIN:VEVENT
DTSTART;TZID=America/Chicago:20241012T140000
DTEND;TZID=America/Chicago:20241012T150000
DTSTAMP:20260423T161039
CREATED:20240930T195405Z
LAST-MODIFIED:20240930T195405Z
UID:1453-1728741600-1728745200@www.minongtrails.com
SUMMARY:Meat Raffle - Gruzy's Italian Beef House & Pub
DESCRIPTION:Join the Minong Trail Club meat raffle crew at Gruzy’s Italian Beef House & Pub for another fun afternoon. For the small token of $10USD you can rent a paddle for all the spins. After all prizes are awarded the paddles will be gathered and you can re-rent them again for the extremally low price of $5USD each to be in a 50/50 spin. The festivities begin at 2:00 PM so get there early to make sure you have your beverage of choice. Not a requirement but hey what’s a meat raffle without a beverage? Thanks to Gruzy’s Italian Beef House & Pub for hosting the Minong Trail Club.
URL:http://www.minongtrails.com/wp/event/meat-raffle-gruzys-italian-beef-house-pub-2/
LOCATION:Gruzy’s Italian Beef House & Pub\, W6649 Nancy Lake Road\, Minong\, WI\, 54859\, United States
END:VEVENT
BEGIN:VEVENT
DTSTART;TZID=America/Chicago:20240928T140000
DTEND;TZID=America/Chicago:20240928T150000
DTSTAMP:20260423T161039
CREATED:20240909T190237Z
LAST-MODIFIED:20240909T190237Z
UID:1450-1727532000-1727535600@www.minongtrails.com
SUMMARY:Meat Raffle-P&L Corner Bar
DESCRIPTION:Join the Minong Trail Club meat raffle crew at the P&L Corner Bar for another fun afternoon. For the small token of $10USD you can rent a paddle for all the spins. After all prizes are awarded the paddles will be gathered and you can re-rent them again for the extremally low price of $5USD each to be in a 50/50 spin. The festivities begin at 2:00 PM so get there early to make sure you have your beverage of choice. Not a requirement but hey what’s a meat raffle without a beverage? Thanks to the P&L Corner Bar for hosting the Minong Trail Club.
URL:http://www.minongtrails.com/wp/event/meat-raffle-pl-corner-bar-5/
LOCATION:P&L Corner Bar\, 203 W. 5th Ave\, Minong\, WI\, 54859\, United States
END:VEVENT
END:VCALENDAR