BEGIN:VCALENDAR
VERSION:2.0
PRODID:-//Minong Trails Club - ECPv6.15.20//NONSGML v1.0//EN
CALSCALE:GREGORIAN
METHOD:PUBLISH
X-WR-CALNAME:Minong Trails Club
X-ORIGINAL-URL:http://www.minongtrails.com/wp
X-WR-CALDESC:Events for Minong Trails Club
REFRESH-INTERVAL;VALUE=DURATION:PT1H
X-Robots-Tag:noindex
X-PUBLISHED-TTL:PT1H
BEGIN:VTIMEZONE
TZID:America/Chicago
BEGIN:DAYLIGHT
TZOFFSETFROM:-0600
TZOFFSETTO:-0500
TZNAME:CDT
DTSTART:20210314T080000
END:DAYLIGHT
BEGIN:STANDARD
TZOFFSETFROM:-0500
TZOFFSETTO:-0600
TZNAME:CST
DTSTART:20211107T070000
END:STANDARD
BEGIN:DAYLIGHT
TZOFFSETFROM:-0600
TZOFFSETTO:-0500
TZNAME:CDT
DTSTART:20220313T080000
END:DAYLIGHT
BEGIN:STANDARD
TZOFFSETFROM:-0500
TZOFFSETTO:-0600
TZNAME:CST
DTSTART:20221106T070000
END:STANDARD
BEGIN:DAYLIGHT
TZOFFSETFROM:-0600
TZOFFSETTO:-0500
TZNAME:CDT
DTSTART:20230312T080000
END:DAYLIGHT
BEGIN:STANDARD
TZOFFSETFROM:-0500
TZOFFSETTO:-0600
TZNAME:CST
DTSTART:20231105T070000
END:STANDARD
END:VTIMEZONE
BEGIN:VEVENT
DTSTART;TZID=America/Chicago:20220416T140000
DTEND;TZID=America/Chicago:20220416T150000
DTSTAMP:20260424T092611
CREATED:20220310T161649Z
LAST-MODIFIED:20220416T173828Z
UID:705-1650117600-1650121200@www.minongtrails.com
SUMMARY:Meat Raffle on the road at Pappy's
DESCRIPTION:Join Julie\, Doug & Bob from the Trails Club as they call out the winning numbers and distribute the prizes. For $10 USD you can “rent” a paddle that will hopefully be your lucky number. After all the prizes are awarded there will be a second opportunity to gain some cash as the paddles will be collected and re-rented for $5 USD for another opportunity to win some cash with a 50/50 spin of the wheel. The raffle begins at 2:00PM\, get there early to make sure you have a beverage in hand\, not a requirement but make sure you quench your thirst.
URL:http://www.minongtrails.com/wp/event/pappys-meat-raffle/
LOCATION:Pappy’s Bar\, W8296 Highway 77\, Trego\, WI\, 54888\, United States
END:VEVENT
BEGIN:VEVENT
DTSTART;TZID=America/Chicago:20220413T180000
DTEND;TZID=America/Chicago:20220413T190000
DTSTAMP:20260424T092611
CREATED:20220227T171058Z
LAST-MODIFIED:20220227T171058Z
UID:605-1649872800-1649876400@www.minongtrails.com
SUMMARY:Club Meeting
DESCRIPTION:Club meeting at the Trails Clubhouse starting at 6:00PM.
URL:http://www.minongtrails.com/wp/event/club-meeting-2/
LOCATION:Minong Trails Club\, 802 S. Railroad St\, Minong\, WI\, 54859\, United States
END:VEVENT
BEGIN:VEVENT
DTSTART;TZID=America/Chicago:20220409T140000
DTEND;TZID=America/Chicago:20220409T150000
DTSTAMP:20260424T092611
CREATED:20220227T171248Z
LAST-MODIFIED:20220313T153743Z
UID:607-1649512800-1649516400@www.minongtrails.com
SUMMARY:Meat Raffle - Longbranch Smokehouse & Grille
DESCRIPTION:The bi-monthly meat raffle is held on the 2nd and 4th Saturday of each month at the Longbranch Smokehouse & Grille in Minong. Join Bob and Brian as they call out the winning numbers and present the prize for that spin. Paddles are available for rent at $10 each and are valid for all spins. After all the prizes have been awarded the paddles will be collected and then rented again for $5 each for a 50/50 spin. The festivities begin at 2:00 PM so arrive early to make sure you have your beverage of choice in hand\, not a requirement but why else would you go to the Longbranch. Thank you for your support at this event.
URL:http://www.minongtrails.com/wp/event/meat-raffle-longbranch-smokehouse-grille-2/
LOCATION:Longbranch Saloon and Grill\, 301 5th Ave E\, Minong\, WI\, 54859\, United States
END:VEVENT
BEGIN:VEVENT
DTSTART;TZID=America/Chicago:20220326T140000
DTEND;TZID=America/Chicago:20220326T150000
DTSTAMP:20260424T092611
CREATED:20220227T170642Z
LAST-MODIFIED:20220313T153649Z
UID:602-1648303200-1648306800@www.minongtrails.com
SUMMARY:Meat Raffle - Longbranch Smokehouse & Grille
DESCRIPTION:The bi-monthly meat raffle is held on the 2nd and 4th Saturday of each month at the Longbranch Smokehouse & Grille in Minong. Join Bob and Brian as they call out the winning numbers and present the prize for that spin. Paddles are available for rent at $10 each and are valid for all spins. After all the prizes have been awarded the paddles will be collected and then rented again for $5 each for a 50/50 spin. The festivities begin at 2:00 PM so arrive early to make sure you have your beverage of choice in hand\, not a requirement but why else would you go to the Longbranch. Thank you for your support at this event.
URL:http://www.minongtrails.com/wp/event/meat-raffle-longbranch-smokehouse-grille/
LOCATION:Longbranch Saloon and Grill\, 301 5th Ave E\, Minong\, WI\, 54859\, United States
END:VEVENT
BEGIN:VEVENT
DTSTART;TZID=America/Chicago:20220312T140000
DTEND;TZID=America/Chicago:20220312T153000
DTSTAMP:20260424T092611
CREATED:20220227T155354Z
LAST-MODIFIED:20220227T225400Z
UID:522-1647093600-1647099000@www.minongtrails.com
SUMMARY:Meat Raffle - Longbranch Smokehouse & Grille
DESCRIPTION:The bi-monthly meat raffle is held on the 2nd and 4th Saturday of each month at the Longbranch Smokehouse & Grille in Minong. Paddles are available for purchase at $10 each and are valid for all spins. After all the meat has been awarded the paddles will be collected and then resold for $5 each for a 50/50 spin. Thank you for your support at this event.
URL:http://www.minongtrails.com/wp/event/meat-raffle-6/
LOCATION:Longbranch Saloon and Grill\, 301 5th Ave E\, Minong\, WI\, 54859\, United States
END:VEVENT
BEGIN:VEVENT
DTSTART;TZID=America/Chicago:20220309T180000
DTEND;TZID=America/Chicago:20220309T190000
DTSTAMP:20260424T092611
CREATED:20220227T160153Z
LAST-MODIFIED:20220227T160153Z
UID:583-1646848800-1646852400@www.minongtrails.com
SUMMARY:Club Meeting
DESCRIPTION:Club meeting at the Trails Clubhouse starting at 6:00PM.
URL:http://www.minongtrails.com/wp/event/club-meeting/
LOCATION:Minong Trails Club\, 802 S. Railroad St\, Minong\, WI\, 54859\, United States
END:VEVENT
BEGIN:VEVENT
DTSTART;TZID=America/Chicago:20220305T140000
DTEND;TZID=America/Chicago:20220305T153000
DTSTAMP:20260424T092611
CREATED:20220227T161026Z
LAST-MODIFIED:20220306T174009Z
UID:585-1646488800-1646494200@www.minongtrails.com
SUMMARY:Meat Raffle - Pappy's Bar Postponed
DESCRIPTION:Due to last nights freezing rain and icy conditions todays meat raffle at Pappy’s has been postponed. Will update our calendar once a new date has been selected. Thank you for your understanding.
URL:http://www.minongtrails.com/wp/event/meat-raffle/
LOCATION:Pappy’s Bar\, W8296 Highway 77\, Trego\, WI\, 54888\, United States
END:VEVENT
END:VCALENDAR