BEGIN:VCALENDAR
VERSION:2.0
PRODID:-//Minong Trails Club - ECPv6.15.20//NONSGML v1.0//EN
CALSCALE:GREGORIAN
METHOD:PUBLISH
X-ORIGINAL-URL:http://www.minongtrails.com/wp
X-WR-CALDESC:Events for Minong Trails Club
REFRESH-INTERVAL;VALUE=DURATION:PT1H
X-Robots-Tag:noindex
X-PUBLISHED-TTL:PT1H
BEGIN:VTIMEZONE
TZID:America/Chicago
BEGIN:DAYLIGHT
TZOFFSETFROM:-0600
TZOFFSETTO:-0500
TZNAME:CDT
DTSTART:20250309T080000
END:DAYLIGHT
BEGIN:STANDARD
TZOFFSETFROM:-0500
TZOFFSETTO:-0600
TZNAME:CST
DTSTART:20251102T070000
END:STANDARD
BEGIN:DAYLIGHT
TZOFFSETFROM:-0600
TZOFFSETTO:-0500
TZNAME:CDT
DTSTART:20260308T080000
END:DAYLIGHT
BEGIN:STANDARD
TZOFFSETFROM:-0500
TZOFFSETTO:-0600
TZNAME:CST
DTSTART:20261101T070000
END:STANDARD
BEGIN:DAYLIGHT
TZOFFSETFROM:-0600
TZOFFSETTO:-0500
TZNAME:CDT
DTSTART:20270314T080000
END:DAYLIGHT
BEGIN:STANDARD
TZOFFSETFROM:-0500
TZOFFSETTO:-0600
TZNAME:CST
DTSTART:20271107T070000
END:STANDARD
END:VTIMEZONE
BEGIN:VEVENT
DTSTART;TZID=America/Chicago:20260725T140000
DTEND;TZID=America/Chicago:20260725T150000
DTSTAMP:20260423T171632
CREATED:20260422T111434Z
LAST-MODIFIED:20260422T111434Z
UID:1838-1784988000-1784991600@www.minongtrails.com
SUMMARY:Meat Raffle - Wilson's K-I Club
DESCRIPTION:Join the Minong Trail Club meat raffle crew at Wilson’s K-I Club for another fun afternoon. For the small token of $10USD you can rent a paddle for all the spins. We will have a 50/25/25 opportunity at halftime as well at the conclusion of the activities. The festivities begin at 2:00 PM so get there early to make sure you have your beverage of choice. Not a requirement but hey what’s a meat raffle without a beverage? Thanks to Wilson’s K-I Club for hosting the Minong Trail Club.
URL:http://www.minongtrails.com/wp/event/meat-raffle-wilsons-k-i-club/
LOCATION:Wilson’s K-I Club\, W6905 Highway 77\, Minong\, WI\, 54859
END:VEVENT
BEGIN:VEVENT
DTSTART;TZID=America/Chicago:20260808T140000
DTEND;TZID=America/Chicago:20260808T150000
DTSTAMP:20260423T171632
CREATED:20260306T133914Z
LAST-MODIFIED:20260327T172303Z
UID:1789-1786197600-1786201200@www.minongtrails.com
SUMMARY:Meat Raffle - Steel Horse Saloon
DESCRIPTION:Join the Minong Trail Club meat raffle crew at the Steel Horse Saloon for another fun afternoon. For the small token of $10USD you can rent a paddle for all the spins. We will have a 50/25/25 opportunity at halftime as well at the conclusion of the activities. The festivities begin at 2:00 PM so get there early to make sure you have your beverage of choice. Not a requirement but hey what’s a meat raffle without a beverage? Thanks to the Steel Horse Saloon for hosting the Minong Trail Club.
URL:http://www.minongtrails.com/wp/event/meat-raffle-steel-horse-saloon/
LOCATION:Steel Horse Saloon\, 16082 Antler Inn Rd\, Wascott\, WI\, 54890\, United States
END:VEVENT
BEGIN:VEVENT
DTSTART;TZID=America/Chicago:20260818T180000
DTEND;TZID=America/Chicago:20260818T190000
DTSTAMP:20260423T171632
CREATED:20260211T141143Z
LAST-MODIFIED:20260211T141143Z
UID:1765-1787076000-1787079600@www.minongtrails.com
SUMMARY:Club Meeting
DESCRIPTION:Club meeting at the Trails Clubhouse starting at 6:00PM.
URL:http://www.minongtrails.com/wp/event/club-meeting-52/
LOCATION:Minong Trails Club\, 802 S. Railroad St\, Minong\, WI\, 54859\, United States
END:VEVENT
BEGIN:VEVENT
DTSTART;TZID=America/Chicago:20260822T130000
DTEND;TZID=America/Chicago:20260822T160000
DTSTAMP:20260423T171632
CREATED:20260327T171523Z
LAST-MODIFIED:20260327T172229Z
UID:1821-1787403600-1787414400@www.minongtrails.com
SUMMARY:Meat Raffle - Town of Chicog Fun Fest
DESCRIPTION:Join the Minong Trail Club meat raffle crew at the Town of Chicog Fun Fest for another fun afternoon. For the small token of $10USD you can rent a paddle for all the spins. At halftime we will conduct 50/25/25 spins and again at the end to conclude the activities. There will be two raffles today festivities begin at 1:00 PM with the second raffle beginning at 3:00 PM. Get there early to enjoy all the Fun Fest activities. Thanks to the Town of Chicog for hosting the Minong Trail Club.
URL:http://www.minongtrails.com/wp/event/meat-raffle-town-of-chicog-fun-fest-2/
LOCATION:Town of Chicog\, W8499 State Hwy 77\, Trego\, WI\, 54888
END:VEVENT
BEGIN:VEVENT
DTSTART;TZID=America/Chicago:20260915T180000
DTEND;TZID=America/Chicago:20260915T190000
DTSTAMP:20260423T171632
CREATED:20260211T141230Z
LAST-MODIFIED:20260211T141230Z
UID:1767-1789495200-1789498800@www.minongtrails.com
SUMMARY:Club Meeting
DESCRIPTION:Club meeting at the Trails Clubhouse starting at 6:00PM.
URL:http://www.minongtrails.com/wp/event/club-meeting-53/
LOCATION:Minong Trails Club\, 802 S. Railroad St\, Minong\, WI\, 54859\, United States
END:VEVENT
BEGIN:VEVENT
DTSTART;VALUE=DATE:20260919
DTEND;VALUE=DATE:20260920
DTSTAMP:20260423T171632
CREATED:20250716T035340Z
LAST-MODIFIED:20260306T134709Z
UID:1577-1789776000-1789862399@www.minongtrails.com
SUMMARY:2026 Annual ATV-UTV Color Tour - Poker Run
DESCRIPTION:Join us for the 16th annual ATV-UTV Color Tour – Poker Run on September 19\, 2026. \nRegister Friday September 18\, from 6 to 8 PM or on September 19 from 8 to 10 AM at the Minong Trails Club house located at 802 South Railroad Street in Minong. \nYou can also register starting September 11 at Stanberry Rail Saloon (Stanberry)\, Silver Lake Saloon (Lampson)\, Prime Bar Family Dining (Trego). If you pre-register at these locations please stop by the clubhouse to collect your free gift on Friday (Sept 18) or Saturday (Sept 19) \nDinner provided at the Minong Village Hall as part of your registration. Poker run cards are to be turned in at 5PM at dinner. \nRaising money for trail & equipment maintenance. \nThank you for supporting the Minong Trails Club.
URL:http://www.minongtrails.com/wp/event/2025-annual-atv-utv-color-tour-poker-run/
LOCATION:Minong Trails Club\, 802 S. Railroad St\, Minong\, WI\, 54859\, United States
END:VEVENT
BEGIN:VEVENT
DTSTART;TZID=America/Chicago:20260926T140000
DTEND;TZID=America/Chicago:20260926T150000
DTSTAMP:20260423T171632
CREATED:20260318T235147Z
LAST-MODIFIED:20260327T172143Z
UID:1803-1790431200-1790434800@www.minongtrails.com
SUMMARY:Meat Raffle - Shangri-La Campground & Bar
DESCRIPTION:Join the Minong Trail Club meat raffle crew at Shangri-La Campground & Bar for another fun afternoon. For the small token of $10USD you can rent a paddle for all the spins. We will also have 50/25/25 spins\, one (1) at halftime and one (1) to conclude the raffle. The festivities begin at 2:00 PM so get there early to make sure you have your beverage of choice. Not a requirement but hey what’s a meat raffle without a beverage? Thanks to Shangri-La Campground and Bar for hosting the Minong Trail Club.
URL:http://www.minongtrails.com/wp/event/meat-raffle-shangri-la-campground-bar/
LOCATION:Shangri-La Cambground & Bar\, W8234 Bald Eagle Drive\, Trego\, Wisconsin\, 54888\, United States
END:VEVENT
BEGIN:VEVENT
DTSTART;TZID=America/Chicago:20261020T180000
DTEND;TZID=America/Chicago:20261020T190000
DTSTAMP:20260423T171632
CREATED:20260211T141315Z
LAST-MODIFIED:20260211T141315Z
UID:1769-1792519200-1792522800@www.minongtrails.com
SUMMARY:Club Meeting
DESCRIPTION:Club meeting at the Trails Clubhouse starting at 6:00PM.
URL:http://www.minongtrails.com/wp/event/club-meeting-54/
LOCATION:Minong Trails Club\, 802 S. Railroad St\, Minong\, WI\, 54859\, United States
END:VEVENT
BEGIN:VEVENT
DTSTART;TZID=America/Chicago:20261117T180000
DTEND;TZID=America/Chicago:20261117T190000
DTSTAMP:20260423T171632
CREATED:20260211T141403Z
LAST-MODIFIED:20260211T141403Z
UID:1771-1794938400-1794942000@www.minongtrails.com
SUMMARY:Club Meeting
DESCRIPTION:Club meeting at the Trails Clubhouse starting at 6:00PM.
URL:http://www.minongtrails.com/wp/event/club-meeting-55/
LOCATION:Minong Trails Club\, 802 S. Railroad St\, Minong\, WI\, 54859\, United States
END:VEVENT
BEGIN:VEVENT
DTSTART;VALUE=DATE:20261121
DTEND;VALUE=DATE:20261122
DTSTAMP:20260423T171632
CREATED:20260211T142008Z
LAST-MODIFIED:20260211T142008Z
UID:1777-1795219200-1795305599@www.minongtrails.com
SUMMARY:No Meat Raffle Today
DESCRIPTION:The club does not have a meat raffle today.
URL:http://www.minongtrails.com/wp/event/no-meat-raffle-today-3/
LOCATION:WI
END:VEVENT
BEGIN:VEVENT
DTSTART;TZID=America/Chicago:20261215T180000
DTEND;TZID=America/Chicago:20261215T190000
DTSTAMP:20260423T171632
CREATED:20260211T141453Z
LAST-MODIFIED:20260211T141453Z
UID:1773-1797357600-1797361200@www.minongtrails.com
SUMMARY:Club Meeting
DESCRIPTION:Club meeting at the Trails Clubhouse starting at 6:00PM.
URL:http://www.minongtrails.com/wp/event/club-meeting-56/
LOCATION:WI
END:VEVENT
BEGIN:VEVENT
DTSTART;VALUE=DATE:20261226
DTEND;VALUE=DATE:20261227
DTSTAMP:20260423T171632
CREATED:20260211T141907Z
LAST-MODIFIED:20260327T171754Z
UID:1775-1798243200-1798329599@www.minongtrails.com
SUMMARY:No Meat Raffle Today
DESCRIPTION:We wish you a very Merry Christmas.
URL:http://www.minongtrails.com/wp/event/no-meat-raffle-today-2/
LOCATION:WI
END:VEVENT
END:VCALENDAR