BEGIN:VCALENDAR
VERSION:2.0
PRODID:-//Minong Trails Club - ECPv6.15.20//NONSGML v1.0//EN
CALSCALE:GREGORIAN
METHOD:PUBLISH
X-ORIGINAL-URL:http://www.minongtrails.com/wp
X-WR-CALDESC:Events for Minong Trails Club
REFRESH-INTERVAL;VALUE=DURATION:PT1H
X-Robots-Tag:noindex
X-PUBLISHED-TTL:PT1H
BEGIN:VTIMEZONE
TZID:America/Chicago
BEGIN:DAYLIGHT
TZOFFSETFROM:-0600
TZOFFSETTO:-0500
TZNAME:CDT
DTSTART:20220313T080000
END:DAYLIGHT
BEGIN:STANDARD
TZOFFSETFROM:-0500
TZOFFSETTO:-0600
TZNAME:CST
DTSTART:20221106T070000
END:STANDARD
BEGIN:DAYLIGHT
TZOFFSETFROM:-0600
TZOFFSETTO:-0500
TZNAME:CDT
DTSTART:20230312T080000
END:DAYLIGHT
BEGIN:STANDARD
TZOFFSETFROM:-0500
TZOFFSETTO:-0600
TZNAME:CST
DTSTART:20231105T070000
END:STANDARD
BEGIN:DAYLIGHT
TZOFFSETFROM:-0600
TZOFFSETTO:-0500
TZNAME:CDT
DTSTART:20240310T080000
END:DAYLIGHT
BEGIN:STANDARD
TZOFFSETFROM:-0500
TZOFFSETTO:-0600
TZNAME:CST
DTSTART:20241103T070000
END:STANDARD
BEGIN:DAYLIGHT
TZOFFSETFROM:-0600
TZOFFSETTO:-0500
TZNAME:CDT
DTSTART:20250309T080000
END:DAYLIGHT
BEGIN:STANDARD
TZOFFSETFROM:-0500
TZOFFSETTO:-0600
TZNAME:CST
DTSTART:20251102T070000
END:STANDARD
END:VTIMEZONE
BEGIN:VEVENT
DTSTART;TZID=America/Chicago:20230909T140000
DTEND;TZID=America/Chicago:20230909T150000
DTSTAMP:20260425T052931
CREATED:20230825T190814Z
LAST-MODIFIED:20230825T191601Z
UID:1141-1694268000-1694271600@www.minongtrails.com
SUMMARY:Meat Raffle - Bootleggers
DESCRIPTION:Join the Minong Trail Club travelling meat raffle crew at the Bootleggers Bar & Grill for another fun afternoon. For the small token of $10USD you can rent a paddle for all the spins. After all prizes are awarded the paddles will be gathered and you can re-rent them again for the extremally low price of $5USD each to be in a 50/50 spin. The festivities begin at 2:00 PM so get there early to make sure you have your beverage of choice. Not a requirement but hey what’s a meat raffle without a beverage? Thanks to the Bootleggers Bar & Grill for hosting the Minong Trail Club.
URL:http://www.minongtrails.com/wp/event/meat-raffle-bootleggers-2/
LOCATION:Bootleggers Bar & Grill\, 16310 US-53\, Minong\, WI\, 54859\, United States
END:VEVENT
BEGIN:VEVENT
DTSTART;TZID=America/Chicago:20230913T180000
DTEND;TZID=America/Chicago:20230913T190000
DTSTAMP:20260425T052931
CREATED:20221016T155347Z
LAST-MODIFIED:20221016T155347Z
UID:947-1694628000-1694631600@www.minongtrails.com
SUMMARY:Club Meeting
DESCRIPTION:Club meeting at the Trails Clubhouse starting at 6:00PM.
URL:http://www.minongtrails.com/wp/event/club-meeting-19/
LOCATION:Minong Trails Club\, 802 S. Railroad St\, Minong\, WI\, 54859\, United States
END:VEVENT
BEGIN:VEVENT
DTSTART;TZID=America/Chicago:20230915T070000
DTEND;TZID=America/Chicago:20230915T153000
DTSTAMP:20260425T052931
CREATED:20230813T163447Z
LAST-MODIFIED:20230814T155237Z
UID:1132-1694761200-1694791800@www.minongtrails.com
SUMMARY:GEAR-UP WISCONSIN presented by RideSafe powered by BRP
DESCRIPTION:MINONG\, WISCONSIN: GEAR-UP WISCONSIN\n\nSEPTEMBER 15 @ 7:00 AM – 3:30 PM\n\n\n\nThe RideSafe Foundation\, in partnership with BRP\, is helping communities educate children and adults about the importance of powersports safety and raise cultural expectations for proper gear and certification. \n\nIn the United States 1-in-5 ATV related fatalities is a child under the age of 16.\nIn 9 out of 10 incidents\, the victim is not wearing a helmet.\nIn 95% of cases the victim had not received safety certification.\n\nRideSafe\, BRP\, our athlete influencers\, and our partners aim to educate on safety\, etiquette and the environment. \nWe are committed to making sure children get the message. \nThis program is being presented to the students at Northwoods School.
URL:http://www.minongtrails.com/wp/event/gear-up-wisconsin-presented-by-ridesafe-powered-by-brp/
LOCATION:Northwoods School\, N14463 US-53\, Minong\, WI\, 54859\, United States
END:VEVENT
BEGIN:VEVENT
DTSTART;TZID=America/Chicago:20230916T090000
DTEND;TZID=America/Chicago:20230916T170000
DTSTAMP:20260425T052931
CREATED:20220304T070458Z
LAST-MODIFIED:20230112T132633Z
UID:691-1694854800-1694883600@www.minongtrails.com
SUMMARY:ATV-UTV Poker Run
DESCRIPTION:Join us for the 13th annual ATV-UTV Color Tour – Poker Run on September 16\, 2023. Registration is from 9-11AM at the Minong Trails Club clubhouse. We will close the day @ P&L Corner Bar for food and refreshments. Thank you to Phil and Lisa for their generous offer to host us.
URL:http://www.minongtrails.com/wp/event/atv-utv-poker-run/
LOCATION:Minong Trails Club\, 802 S. Railroad St\, Minong\, WI\, 54859\, United States
END:VEVENT
BEGIN:VEVENT
DTSTART;TZID=America/Chicago:20230923T140000
DTEND;TZID=America/Chicago:20230923T170000
DTSTAMP:20260425T052931
CREATED:20230825T125040Z
LAST-MODIFIED:20230825T125040Z
UID:1139-1695477600-1695488400@www.minongtrails.com
SUMMARY:Meat Raffle - Pappy's
DESCRIPTION:Join the Minong Trail Club meat raffle crew at Pappy’s Bar for another fun afternoon. For the small token of $10USD you can rent a paddle for all the spins. After all prizes are awarded the paddles will be gathered and you can re-rent them for the extremally low price of $5USD each to be in a 50/50 spin. The festivities begin at 2:00 PM so get there early to make sure you have your beverage of choice. Not a requirement but hey what’s a meat raffle without a beverage? Thanks to the Pappy’s Bar for hosting the Minong Trail Club.
URL:http://www.minongtrails.com/wp/event/meat-raffle-pappys/
LOCATION:Pappy’s Bar\, W8296 Highway 77\, Trego\, WI\, 54888\, United States
END:VEVENT
BEGIN:VEVENT
DTSTART;TZID=America/Chicago:20231009T140000
DTEND;TZID=America/Chicago:20231009T150000
DTSTAMP:20260425T052931
CREATED:20231001T165649Z
LAST-MODIFIED:20231001T165649Z
UID:1183-1696860000-1696863600@www.minongtrails.com
SUMMARY:Tavern League Presentation
DESCRIPTION:The Minong Trails Club has been informed that the Tavern League will be presenting the club with a financial donation at their meeting at Twin Oaks Bar & Grill. It would be wonderful to have a great turnout for this event. Wear your Minong Trails attire.
URL:http://www.minongtrails.com/wp/event/tavern-league-presentation/
LOCATION:Twin Oaks Bar & Grill\, W7650 County Highway E\, Spooner\, WI\, 54801\, United States
END:VEVENT
BEGIN:VEVENT
DTSTART;TZID=America/Chicago:20231011T180000
DTEND;TZID=America/Chicago:20231011T190000
DTSTAMP:20260425T052931
CREATED:20221016T155551Z
LAST-MODIFIED:20221016T155551Z
UID:949-1697047200-1697050800@www.minongtrails.com
SUMMARY:Club Meeting
DESCRIPTION:Club meeting at the Trails Clubhouse starting at 6:00PM.
URL:http://www.minongtrails.com/wp/event/club-meeting-20/
LOCATION:Minong Trails Club\, 802 S. Railroad St\, Minong\, WI\, 54859\, United States
END:VEVENT
BEGIN:VEVENT
DTSTART;TZID=America/Chicago:20231014T140000
DTEND;TZID=America/Chicago:20231014T150000
DTSTAMP:20260425T052931
CREATED:20231012T223809Z
LAST-MODIFIED:20231012T223924Z
UID:1197-1697292000-1697295600@www.minongtrails.com
SUMMARY:Meat Raffle - P&L Corner Bar
DESCRIPTION:Join the Minong Trail Club meat raffle crew at P&L Corner Bar for another fun afternoon. For the small token of $10USD you can rent a paddle for all the spins. After all prizes are awarded the paddles will be gathered and you can re-rent them again for the extremally low price of $5USD each to be in a 50/50 spin. The festivities begin at 2:00 PM so get there early to make sure you have your beverage of choice. Not a requirement but hey what’s a meat raffle without a beverage? Thanks to Phil & Lisa for hosting the Minong Trail Club.
URL:http://www.minongtrails.com/wp/event/1197/
LOCATION:P&L Corner Bar\, 203 W. 5th Ave\, Minong\, WI\, 54859\, United States
END:VEVENT
BEGIN:VEVENT
DTSTART;TZID=America/Chicago:20231028T140000
DTEND;TZID=America/Chicago:20231028T150000
DTSTAMP:20260425T052931
CREATED:20230928T014229Z
LAST-MODIFIED:20231002T201226Z
UID:1149-1698501600-1698505200@www.minongtrails.com
SUMMARY:Meat Raffle - Wolf Point Bar & Grill
DESCRIPTION:Join the Minong Trail Club meat raffle crew at Wolf Point Bar & Grill for another fun afternoon. For the small token of $10USD you can rent a paddle for all the spins. After all prizes are awarded the paddles will be gathered and you can re-rent them again for the extremally low price of $5USD each to be in a 50/50 spin. The festivities begin at 2:00 PM so get there early to make sure you have your beverage of choice. Not a requirement but hey what’s a meat raffle without a beverage? Thanks to Wolf Point Bar & Grill for hosting the Minong Trail Club.
URL:http://www.minongtrails.com/wp/event/meat-raffle-wolf-point-bar-grill-3/
LOCATION:Wolf Point Bar & Grill\, W4186 County Hwy F\, Springbrook\, WI\, 54875\, United States
END:VEVENT
BEGIN:VEVENT
DTSTART;TZID=America/Chicago:20231108T180000
DTEND;TZID=America/Chicago:20231108T190000
DTSTAMP:20260425T052931
CREATED:20221016T155638Z
LAST-MODIFIED:20221016T155638Z
UID:951-1699466400-1699470000@www.minongtrails.com
SUMMARY:Club Meeting
DESCRIPTION:Club meeting at the Trails Clubhouse starting at 6:00PM.
URL:http://www.minongtrails.com/wp/event/club-meeting-21/
LOCATION:Minong Trails Club\, 802 S. Railroad St\, Minong\, WI\, 54859\, United States
END:VEVENT
BEGIN:VEVENT
DTSTART;TZID=America/Chicago:20231111T140000
DTEND;TZID=America/Chicago:20231111T150000
DTSTAMP:20260425T052931
CREATED:20231012T223428Z
LAST-MODIFIED:20231012T223452Z
UID:1194-1699711200-1699714800@www.minongtrails.com
SUMMARY:Meat Raffle - Stanberry Rail Saloon
DESCRIPTION:Join the Minong Trail Club meat raffle crew at the Stanberry Rail Saloon for another fun afternoon. For the small token of $10USD you can rent a paddle for all the spins. After all prizes are awarded the paddles will be gathered and you can re-rent them again for the extremally low price of $5USD each to be in a 50/50 spin. The festivities begin at 2:00 PM so get there early to make sure you have your beverage of choice. Not a requirement but hey what’s a meat raffle without a beverage? Thanks to Wayne & Denise for hosting the Minong Trail Club.
URL:http://www.minongtrails.com/wp/event/meat-raffle-stanberry-rail-saloon-4/
LOCATION:Stanberry Rail Saloon\, N10303 County Hwy M\, Springbrook\, WI\, 54875\, United States
END:VEVENT
BEGIN:VEVENT
DTSTART;VALUE=DATE:20231125
DTEND;VALUE=DATE:20231126
DTSTAMP:20260425T052931
CREATED:20231012T224944Z
LAST-MODIFIED:20231012T224944Z
UID:1203-1700870400-1700956799@www.minongtrails.com
SUMMARY:No Meat Raffle - Happy Thanksgiving
DESCRIPTION:Wishing everyone a very Happy Thanksgiving.
URL:http://www.minongtrails.com/wp/event/no-meat-raffle-happy-thanksgiving/
LOCATION:WI
END:VEVENT
BEGIN:VEVENT
DTSTART;VALUE=DATE:20231209
DTEND;VALUE=DATE:20231210
DTSTAMP:20260425T052931
CREATED:20230425T170551Z
LAST-MODIFIED:20231012T224001Z
UID:1101-1702080000-1702166399@www.minongtrails.com
SUMMARY:Pending Meat Raffle
DESCRIPTION:The club is in the process of securing a sponsor site for todays meat raffle\, please stop by later as this event will br updated as soon as information is available.
URL:http://www.minongtrails.com/wp/event/no-meat-raffle/
LOCATION:WI
END:VEVENT
BEGIN:VEVENT
DTSTART;TZID=America/Chicago:20231213T180000
DTEND;TZID=America/Chicago:20231213T190000
DTSTAMP:20260425T052931
CREATED:20221016T155726Z
LAST-MODIFIED:20221016T155726Z
UID:953-1702490400-1702494000@www.minongtrails.com
SUMMARY:Club Meeting
DESCRIPTION:Club meeting at the Trails Clubhouse starting at 6:00PM.
URL:http://www.minongtrails.com/wp/event/club-meeting-22/
LOCATION:Minong Trails Club\, 802 S. Railroad St\, Minong\, WI\, 54859\, United States
END:VEVENT
BEGIN:VEVENT
DTSTART;VALUE=DATE:20231223
DTEND;VALUE=DATE:20231224
DTSTAMP:20260425T052931
CREATED:20231012T224639Z
LAST-MODIFIED:20231012T224639Z
UID:1200-1703289600-1703375999@www.minongtrails.com
SUMMARY:No Meat Raffle  Merry Christmas
DESCRIPTION:The trails club members wish you a very Merry Christmas.
URL:http://www.minongtrails.com/wp/event/no-meat-raffle-merry-christmas/
LOCATION:WI
END:VEVENT
BEGIN:VEVENT
DTSTART;TZID=America/Chicago:20231231T140000
DTEND;TZID=America/Chicago:20231231T150000
DTSTAMP:20260425T052931
CREATED:20231216T235808Z
LAST-MODIFIED:20231216T235808Z
UID:1227-1704031200-1704034800@www.minongtrails.com
SUMMARY:Meat Raffle - Pappy's Bar
DESCRIPTION:Join the Minong Trail Club meat raffle crew at Pappy’s Bar for a special New Years Eve raffle. For the small token of $10USD you can rent a paddle for all the spins. After all prizes are awarded the paddles will be gathered and you can re-rent them for the extremally low price of $5USD each to be in a 50/50 spin. The festivities begin at 2:00 PM so get there early to make sure you have your beverage of choice. Not a requirement but hey what’s a meat raffle without a beverage? Thanks to the Pappy’s Bar new owners Pete & Renee for hosting the Minong Trail Club.
URL:http://www.minongtrails.com/wp/event/meat-raffle-pappys-bar-3/
LOCATION:Pappy’s Bar\, W8296 Highway 77\, Trego\, WI\, 54888\, United States
END:VEVENT
BEGIN:VEVENT
DTSTART;TZID=America/Chicago:20240110T180000
DTEND;TZID=America/Chicago:20240110T190000
DTSTAMP:20260425T052931
CREATED:20231001T163746Z
LAST-MODIFIED:20231001T163746Z
UID:1157-1704909600-1704913200@www.minongtrails.com
SUMMARY:Club Meeting
DESCRIPTION:Club meeting at the Trails Clubhouse starting at 6:00PM.
URL:http://www.minongtrails.com/wp/event/club-meeting-23/
LOCATION:Minong Trails Club\, 802 S. Railroad St\, Minong\, WI\, 54859\, United States
END:VEVENT
BEGIN:VEVENT
DTSTART;TZID=America/Chicago:20240113T140000
DTEND;TZID=America/Chicago:20240113T150000
DTSTAMP:20260425T052931
CREATED:20240101T183002Z
LAST-MODIFIED:20240101T183002Z
UID:1232-1705154400-1705158000@www.minongtrails.com
SUMMARY:Meat Raffle - P&L Corner Bar
DESCRIPTION:Join the Minong Trail Club meat raffle crew at the P&L Corner Bar for another fun afternoon. For the small token of $10USD you can rent a paddle for all the spins. After all prizes are awarded the paddles will be gathered and you can re-rent them again for the extremally low price of $5USD each to be in a 50/50 spin. The festivities begin at 2:00 PM so get there early to make sure you have your beverage of choice. Not a requirement but hey what’s a meat raffle without a beverage? Thanks to the P&L Corner Bar for hosting the Minong Trail Club.
URL:http://www.minongtrails.com/wp/event/meat-raffle-pl-corner-bar-3/
LOCATION:P&L Corner Bar\, 203 W. 5th Ave\, Minong\, WI\, 54859\, United States
END:VEVENT
BEGIN:VEVENT
DTSTART;TZID=America/Chicago:20240127T140000
DTEND;TZID=America/Chicago:20240127T150000
DTSTAMP:20260425T052931
CREATED:20240105T232512Z
LAST-MODIFIED:20240120T002938Z
UID:1241-1706364000-1706367600@www.minongtrails.com
SUMMARY:Meat Raffle - Bootleggers Bar & Grill
DESCRIPTION:Join the Minong Trail Club meat raffle crew at the Bootleggers Bar & Grill for another fun afternoon. For the small token of $10USD you can rent a paddle for all the spins. After all prizes are awarded the paddles will be gathered and you can re-rent them again for the extremally low price of $5USD each to be in a 50/50 spin. The festivities begin at 2:00 PM so get there early to make sure you have your beverage of choice. Not a requirement but hey what’s a meat raffle without a beverage? Thanks to the Bootleggers Bar & Grill for hosting the Minong Trail Club.
URL:http://www.minongtrails.com/wp/event/meat-raffle-bootleggers-bar-grill-2/
LOCATION:Bootleggers Bar & Grill\, 16310 US-53\, Minong\, WI\, 54859\, United States
END:VEVENT
BEGIN:VEVENT
DTSTART;TZID=America/Chicago:20240210T140000
DTEND;TZID=America/Chicago:20240210T150000
DTSTAMP:20260425T052931
CREATED:20240120T003619Z
LAST-MODIFIED:20240120T003619Z
UID:1281-1707573600-1707577200@www.minongtrails.com
SUMMARY:Meat Raffle - Wolf Point Bar & Grill
DESCRIPTION:Join the Minong Trail Club meat raffle crew at Wolf Point Bar & Grill for another fun afternoon. For the small token of $10USD you can rent a paddle for all the spins. After all prizes are awarded the paddles will be gathered and you can re-rent them again for the extremally low price of $5USD each to be in a 50/50 spin. The festivities begin at 2:00 PM so get there early to make sure you have your beverage of choice. Not a requirement but hey what’s a meat raffle without a beverage? Thanks to Wolf Point Bar & Grill for hosting the Minong Trail Club.
URL:http://www.minongtrails.com/wp/event/meat-raffle-wolf-point-bar-grill-4/
LOCATION:Wolf Point Bar & Grill\, W4186 County Hwy F\, Springbrook\, WI\, 54875\, United States
END:VEVENT
BEGIN:VEVENT
DTSTART;TZID=America/Chicago:20240214T180000
DTEND;TZID=America/Chicago:20240214T190000
DTSTAMP:20260425T052931
CREATED:20231001T163835Z
LAST-MODIFIED:20231001T163835Z
UID:1159-1707933600-1707937200@www.minongtrails.com
SUMMARY:Club Meeting
DESCRIPTION:Club meeting at the Trails Clubhouse starting at 6:00PM.
URL:http://www.minongtrails.com/wp/event/club-meeting-24/
LOCATION:Minong Trails Club\, 802 S. Railroad St\, Minong\, WI\, 54859\, United States
END:VEVENT
BEGIN:VEVENT
DTSTART;TZID=America/Chicago:20240224T140000
DTEND;TZID=America/Chicago:20240224T150000
DTSTAMP:20260425T052931
CREATED:20240120T003837Z
LAST-MODIFIED:20241203T210256Z
UID:1283-1708783200-1708786800@www.minongtrails.com
SUMMARY:Meat Raffle - Outback Bar & Pizza
DESCRIPTION:Join the Minong Trail Club meat raffle crew at Outback Bar and Pizza for another fun afternoon. For the small token of $10USD you can rent a paddle for all the spins. After all prizes are awarded the paddles will be gathered and you can re-rent them again for the extremally low price of $5USD each to be in a 50/50 spin. The festivities begin at 2:00 PM so get there early to make sure you have your beverage of choice. Not a requirement but hey what’s a meat raffle without a beverage? Thanks to the Outback Bar and Pizza for hosting the Minong Trail Club.
URL:http://www.minongtrails.com/wp/event/meat-raffle-outback-bar-pizza/
LOCATION:Outback Bar\, W904 WI-77\, Hayward\, WI\, 54843\, United States
END:VEVENT
BEGIN:VEVENT
DTSTART;TZID=America/Chicago:20240309T140000
DTEND;TZID=America/Chicago:20240309T150000
DTSTAMP:20260425T052931
CREATED:20240111T031501Z
LAST-MODIFIED:20240111T031501Z
UID:1244-1709992800-1709996400@www.minongtrails.com
SUMMARY:Meat Raffle - Stanberry Rail Saloon
DESCRIPTION:Join the Minong Trail Club meat raffle crew at the Stanberry Rail Saloon for another fun afternoon. For the small token of $10USD you can rent a paddle for all the spins. After all prizes are awarded the paddles will be gathered and you can re-rent them again for the extremally low price of $5USD each to be in a 50/50 spin. The festivities begin at 2:00 PM so get there early to make sure you have your beverage of choice. Not a requirement but hey what’s a meat raffle without a beverage? Thanks to Wayne & Denise for hosting the Minong Trail Club.
URL:http://www.minongtrails.com/wp/event/meat-raffle-stanberry-rail-saloon-3/
LOCATION:Stanberry Rail Saloon\, N10303 County Hwy M\, Springbrook\, WI\, 54875\, United States
END:VEVENT
BEGIN:VEVENT
DTSTART;TZID=America/Chicago:20240313T180000
DTEND;TZID=America/Chicago:20240313T190000
DTSTAMP:20260425T052931
CREATED:20231001T163916Z
LAST-MODIFIED:20231001T163916Z
UID:1161-1710352800-1710356400@www.minongtrails.com
SUMMARY:Club Meeting
DESCRIPTION:Club meeting at the Trails Clubhouse starting at 6:00PM.
URL:http://www.minongtrails.com/wp/event/club-meeting-25/
LOCATION:WI
END:VEVENT
BEGIN:VEVENT
DTSTART;TZID=America/Chicago:20240323T140000
DTEND;TZID=America/Chicago:20240323T150000
DTSTAMP:20260425T052931
CREATED:20240210T220626Z
LAST-MODIFIED:20240210T220626Z
UID:1293-1711202400-1711206000@www.minongtrails.com
SUMMARY:Meat Raffle - Gruzy's Italian Beef House & Pub
DESCRIPTION:Join the Minong Trail Club meat raffle crew at Gruzy’s Italian Beef House & Pub for another fun afternoon. For the small token of $10USD you can rent a paddle for all the spins. After all prizes are awarded the paddles will be gathered and you can re-rent them again for the extremally low price of $5USD each to be in a 50/50 spin. The festivities begin at 2:00 PM so get there early to make sure you have your beverage of choice. Not a requirement but hey what’s a meat raffle without a beverage? Thanks to Gruzy’s Italian Beef House & Pub for hosting the Minong Trail Club.
URL:http://www.minongtrails.com/wp/event/meat-raffle-gruzys-italian-beef-house-pub/
LOCATION:Gruzy’s Italian Beef House & Pub\, W6649 Nancy Lake Road\, Minong\, WI\, 54859\, United States
END:VEVENT
BEGIN:VEVENT
DTSTART;TZID=America/Chicago:20240410T180000
DTEND;TZID=America/Chicago:20240410T190000
DTSTAMP:20260425T052931
CREATED:20231001T163958Z
LAST-MODIFIED:20231001T163958Z
UID:1163-1712772000-1712775600@www.minongtrails.com
SUMMARY:Club Meeting
DESCRIPTION:Club meeting at the Trails Clubhouse starting at 6:00PM.
URL:http://www.minongtrails.com/wp/event/club-meeting-26/
LOCATION:Minong Trails Club\, 802 S. Railroad St\, Minong\, WI\, 54859\, United States
END:VEVENT
BEGIN:VEVENT
DTSTART;TZID=America/Chicago:20240413T140000
DTEND;TZID=America/Chicago:20240413T150000
DTSTAMP:20260425T052931
CREATED:20240315T233816Z
LAST-MODIFIED:20240315T233816Z
UID:1315-1713016800-1713020400@www.minongtrails.com
SUMMARY:Meat Raffle - Pappy's Bar
DESCRIPTION:Join the Minong Trail Club meat raffle crew at Pappy’s Bar for a special New Years Eve raffle. For the small token of $10USD you can rent a paddle for all the spins. After all prizes are awarded the paddles will be gathered and you can re-rent them for the extremally low price of $5USD each to be in a 50/50 spin. The festivities begin at 2:00 PM so get there early to make sure you have your beverage of choice. Not a requirement but hey what’s a meat raffle without a beverage? Thanks to the Pappy’s Bar new owners Pete & Renee for hosting the Minong Trail Club.
URL:http://www.minongtrails.com/wp/event/meat-raffle-pappys-bar-4/
LOCATION:Pappy’s Bar\, W8296 Highway 77\, Trego\, WI\, 54888\, United States
END:VEVENT
BEGIN:VEVENT
DTSTART;TZID=America/Chicago:20240427T140000
DTEND;TZID=America/Chicago:20240427T150000
DTSTAMP:20260425T052931
CREATED:20240315T215448Z
LAST-MODIFIED:20240315T215448Z
UID:1305-1714226400-1714230000@www.minongtrails.com
SUMMARY:Meat Raffle - P&L Corner Bar
DESCRIPTION:Join the Minong Trail Club meat raffle crew at the P&L Corner Bar for another fun afternoon. For the small token of $10USD you can rent a paddle for all the spins. After all prizes are awarded the paddles will be gathered and you can re-rent them again for the extremally low price of $5USD each to be in a 50/50 spin. The festivities begin at 2:00 PM so get there early to make sure you have your beverage of choice. Not a requirement but hey what’s a meat raffle without a beverage? Thanks to the P&L Corner Bar for hosting the Minong Trail Club.
URL:http://www.minongtrails.com/wp/event/meat-raffle-pl-corner-bar-4/
LOCATION:P&L Corner Bar\, 203 W. 5th Ave\, Minong\, WI\, 54859\, United States
END:VEVENT
BEGIN:VEVENT
DTSTART;TZID=America/Chicago:20240511T140000
DTEND;TZID=America/Chicago:20240511T150000
DTSTAMP:20260425T052931
CREATED:20240315T215824Z
LAST-MODIFIED:20240315T215824Z
UID:1307-1715436000-1715439600@www.minongtrails.com
SUMMARY:Meat Raffle - Nelson Lake Landing
DESCRIPTION:Join the Minong Trail Club meat raffle crew at the Nelson Lake Landing for another fun afternoon. For the small token of $10USD you can rent a paddle for all the spins. After all prizes are awarded the paddles will be gathered and you can re-rent them again for the extremally low price of $5USD each to be in a 50/50 spin. The festivities begin at 2:00 PM so get there early to make sure you have your beverage of choice. Not a requirement but hey what’s a meat raffle without a beverage? Thanks to Nelson Lake Landing for hosting the Minong Trail Club.
URL:http://www.minongtrails.com/wp/event/meat-raffle-nelson-lake-landing-2/
LOCATION:Nelson Lake Landing\, 13045 Dam Rd\,\, Hayward\, WI\, 54843\, United States
END:VEVENT
BEGIN:VEVENT
DTSTART;TZID=America/Chicago:20240521T180000
DTEND;TZID=America/Chicago:20240521T190000
DTSTAMP:20260425T052931
CREATED:20231001T164042Z
LAST-MODIFIED:20240413T175446Z
UID:1165-1716314400-1716318000@www.minongtrails.com
SUMMARY:Club Meeting
DESCRIPTION:Club meeting at the Trails Clubhouse starting at 6:00PM.
URL:http://www.minongtrails.com/wp/event/club-meeting-27/
LOCATION:Minong Trails Club\, 802 S. Railroad St\, Minong\, WI\, 54859\, United States
END:VEVENT
END:VCALENDAR