BEGIN:VCALENDAR
VERSION:2.0
PRODID:-//Minong Trails Club - ECPv6.15.20//NONSGML v1.0//EN
CALSCALE:GREGORIAN
METHOD:PUBLISH
X-WR-CALNAME:Minong Trails Club
X-ORIGINAL-URL:http://www.minongtrails.com/wp
X-WR-CALDESC:Events for Minong Trails Club
REFRESH-INTERVAL;VALUE=DURATION:PT1H
X-Robots-Tag:noindex
X-PUBLISHED-TTL:PT1H
BEGIN:VTIMEZONE
TZID:America/Chicago
BEGIN:DAYLIGHT
TZOFFSETFROM:-0600
TZOFFSETTO:-0500
TZNAME:CDT
DTSTART:20240310T080000
END:DAYLIGHT
BEGIN:STANDARD
TZOFFSETFROM:-0500
TZOFFSETTO:-0600
TZNAME:CST
DTSTART:20241103T070000
END:STANDARD
BEGIN:DAYLIGHT
TZOFFSETFROM:-0600
TZOFFSETTO:-0500
TZNAME:CDT
DTSTART:20250309T080000
END:DAYLIGHT
BEGIN:STANDARD
TZOFFSETFROM:-0500
TZOFFSETTO:-0600
TZNAME:CST
DTSTART:20251102T070000
END:STANDARD
BEGIN:DAYLIGHT
TZOFFSETFROM:-0600
TZOFFSETTO:-0500
TZNAME:CDT
DTSTART:20260308T080000
END:DAYLIGHT
BEGIN:STANDARD
TZOFFSETFROM:-0500
TZOFFSETTO:-0600
TZNAME:CST
DTSTART:20261101T070000
END:STANDARD
BEGIN:DAYLIGHT
TZOFFSETFROM:-0600
TZOFFSETTO:-0500
TZNAME:CDT
DTSTART:20270314T080000
END:DAYLIGHT
BEGIN:STANDARD
TZOFFSETFROM:-0500
TZOFFSETTO:-0600
TZNAME:CST
DTSTART:20271107T070000
END:STANDARD
END:VTIMEZONE
BEGIN:VEVENT
DTSTART;TZID=America/Chicago:20260421T180000
DTEND;TZID=America/Chicago:20260421T190000
DTSTAMP:20260423T143946
CREATED:20260211T140857Z
LAST-MODIFIED:20260211T140857Z
UID:1757-1776794400-1776798000@www.minongtrails.com
SUMMARY:Club Meeting
DESCRIPTION:Club meeting at the Trails Clubhouse starting at 6:00PM.
URL:http://www.minongtrails.com/wp/event/club-meeting-48/
LOCATION:Minong Trails Club\, 802 S. Railroad St\, Minong\, WI\, 54859\, United States
END:VEVENT
BEGIN:VEVENT
DTSTART;TZID=America/Chicago:20260411T140000
DTEND;TZID=America/Chicago:20260411T150000
DTSTAMP:20260423T143946
CREATED:20260306T133320Z
LAST-MODIFIED:20260327T172644Z
UID:1787-1775916000-1775919600@www.minongtrails.com
SUMMARY:Meat Raffle - P&L Corner Bar
DESCRIPTION:Join the Minong Trail Club meat raffle crew at the P&L Corner Bar for another fun afternoon. For the small token of $10USD you can rent a paddle for all the spins. We will have a 50/25/25 opportunity at halftime as well at the conclusion of the activities. The festivities begin at 2:00 PM so get there early to make sure you have your beverage of choice. Not a requirement but hey what’s a meat raffle without a beverage? Thanks to the P&L Corner Bar for hosting the Minong Trail Club.
URL:http://www.minongtrails.com/wp/event/meat-raffle-pl-corner-bar-9/
LOCATION:P&L Corner Bar\, 203 W. 5th Ave\, Minong\, WI\, 54859\, United States
END:VEVENT
BEGIN:VEVENT
DTSTART;TZID=America/Chicago:20260328T140000
DTEND;TZID=America/Chicago:20260328T150000
DTSTAMP:20260423T143946
CREATED:20260306T133152Z
LAST-MODIFIED:20260327T172712Z
UID:1785-1774706400-1774710000@www.minongtrails.com
SUMMARY:Meat Raffle - Longbranch Saloon & Grille
DESCRIPTION:Join meat raffle team as they call out the winning numbers and present the prize for that spin at the Longbranch Saloon & Grill in Minong. The orange paddles are available for rent at $10 each and are valid for all prize giveaways. During half-time you will have the opportunity rent a green paddle for the 50/25/25 giveaway as well as at the conclusion of the prizes raffle. The festivities begin at 2:00 PM so arrive early to make sure you have your beverage of choice in hand\, not a requirement but why not. Thank you to the Longbranch Saloon & Grille for hosting and thank you for your support of our event.
URL:http://www.minongtrails.com/wp/event/meat-raffle-longbranch-saloon-grille/
LOCATION:Longbranch Saloon and Grill\, 301 5th Ave E\, Minong\, WI\, 54859\, United States
END:VEVENT
BEGIN:VEVENT
DTSTART;TZID=America/Chicago:20260317T180000
DTEND;TZID=America/Chicago:20260317T190000
DTSTAMP:20260423T143946
CREATED:20260211T140818Z
LAST-MODIFIED:20260211T140818Z
UID:1755-1773770400-1773774000@www.minongtrails.com
SUMMARY:Club Meeting
DESCRIPTION:Club meeting at the Trails Clubhouse starting at 6:00PM.
URL:http://www.minongtrails.com/wp/event/club-meeting-43/
LOCATION:Minong Trails Club\, 802 S. Railroad St\, Minong\, WI\, 54859\, United States
END:VEVENT
BEGIN:VEVENT
DTSTART;TZID=America/Chicago:20260314T140000
DTEND;TZID=America/Chicago:20260314T150000
DTSTAMP:20260423T143946
CREATED:20260218T005455Z
LAST-MODIFIED:20260218T005455Z
UID:1779-1773496800-1773500400@www.minongtrails.com
SUMMARY:Meat Raffle - Bootleggers Bar & Grill
DESCRIPTION:Join the Minong Trail Club meat raffle crew at the Bootleggers Bar & Grill for another fun afternoon. For the small token of $10USD you can rent a paddle for all the spins. At half-time and at the conclusion of the raffle we will have a 50/25/25 opportunity for the low entry cost of $5 USD. The festivities begin at 2:00 PM so get there early to make sure you have your beverage of choice. Not a requirement but hey what’s a meat raffle without a beverage? Thanks to the Bootleggers Bar & Grill for hosting the Minong Trail Club.
URL:http://www.minongtrails.com/wp/event/meat-raffle-bootleggers-bar-grill-5/
LOCATION:Bootleggers Bar & Grill\, 16310 US-53\, Minong\, WI\, 54859\, United States
END:VEVENT
BEGIN:VEVENT
DTSTART;TZID=America/Chicago:20260228T140000
DTEND;TZID=America/Chicago:20260228T150000
DTSTAMP:20260423T143946
CREATED:20260108T130827Z
LAST-MODIFIED:20260108T131519Z
UID:1714-1772287200-1772290800@www.minongtrails.com
SUMMARY:Meat Raffle-Outback Bar
DESCRIPTION:Join the Minong Trail Club meat raffle crew at Outback Bar for another fun afternoon. For the small token of $10USD you can rent a paddle for all the spins. We will also have a 50/25/25 spins at halftime as well as at the conclusion of the main event. The cost of the 50/25/25 is $5 per paddle. The festivities begin at 2:00 PM so get there early to make sure you have your beverage of choice. Not a requirement but hey what’s a meat raffle without a beverage? Thanks to the Outback Bar and Pizza for hosting the Minong Trail Club.
URL:http://www.minongtrails.com/wp/event/meat-raffle-outback-bar-2/
LOCATION:Outback Bar\, W904 WI-77\, Hayward\, WI\, 54843\, United States
END:VEVENT
BEGIN:VEVENT
DTSTART;TZID=America/Chicago:20260217T180000
DTEND;TZID=America/Chicago:20260217T190000
DTSTAMP:20260423T143946
CREATED:20260211T140715Z
LAST-MODIFIED:20260211T140715Z
UID:1753-1771351200-1771354800@www.minongtrails.com
SUMMARY:Club Meetings
DESCRIPTION:Club meeting at the Trails Clubhouse starting at 6:00PM.
URL:http://www.minongtrails.com/wp/event/club-meetings/
LOCATION:Minong Trails Club\, 802 S. Railroad St\, Minong\, WI\, 54859\, United States
END:VEVENT
BEGIN:VEVENT
DTSTART;TZID=America/Chicago:20260214T140000
DTEND;TZID=America/Chicago:20260214T150000
DTSTAMP:20260423T143946
CREATED:20260108T130632Z
LAST-MODIFIED:20260211T140227Z
UID:1712-1771077600-1771081200@www.minongtrails.com
SUMMARY:Meat Raffle-Stanberry Rail Saloon
DESCRIPTION:Join the Minong Trail Club meat raffle crew at the Stanberry Rail Saloon for another fun afternoon. For the small token of $10 USD you can rent a paddle for all the spins. We will conduct a 50/25/25 raffle during halftime and also to conclude the activities\, the cost is $5 per paddle. The festivities begin at 2:00 PM so get there early to make sure you have your beverage of choice. Not a requirement but hey what’s a meat raffle without a beverage? Thanks to Lori & Ted for hosting the Minong Trail Club.
URL:http://www.minongtrails.com/wp/event/meat-raffle-stanberry-rail-saloon-7/
LOCATION:Stanberry Rail Saloon\, N10303 County Hwy M\, Springbrook\, WI\, 54875\, United States
END:VEVENT
BEGIN:VEVENT
DTSTART;TZID=America/Chicago:20260124T140000
DTEND;TZID=America/Chicago:20260124T150000
DTSTAMP:20260423T143946
CREATED:20260108T130337Z
LAST-MODIFIED:20260108T132102Z
UID:1710-1769263200-1769266800@www.minongtrails.com
SUMMARY:Meat Raffle-Wolf Point Bar & Grill
DESCRIPTION:Join the Minong Trail Club meat raffle crew at Wolf Point Bar & Grill for another fun afternoon. For the small token of $10USD you can rent a paddle for all the spins. We will also have a 50/25/25 spins at halftime as well as at the conclusion of the main event. The cost of the 50/25/25 is $5 per paddle.  The festivities begin at 2:00 PM so get there early to make sure you have your beverage of choice. Not a requirement but hey what’s a meat raffle without a beverage? Thanks to Wolf Point Bar & Grill for hosting the Minong Trail Club.
URL:http://www.minongtrails.com/wp/event/meat-raffle-wolf-point-bar-grill-10/
LOCATION:Wolf Point Bar & Grill\, W4186 County Hwy F\, Springbrook\, WI\, 54875\, United States
END:VEVENT
BEGIN:VEVENT
DTSTART;TZID=America/Chicago:20260110T140000
DTEND;TZID=America/Chicago:20260110T150000
DTSTAMP:20260423T143946
CREATED:20251126T182700Z
LAST-MODIFIED:20251126T182700Z
UID:1707-1768053600-1768057200@www.minongtrails.com
SUMMARY:Meat Raffle - Pappy's Bar
DESCRIPTION:Join the Minong Trail Club meat raffle crew at Pappy’s Bar. For the small token of $10USD you can rent a paddle for all the spins. Will also have a couple of 50/25/25 raffles. The festivities begin at 2:00 PM so get there early to make sure you have your beverage of choice. Not a requirement but hey what’s a meat raffle without a beverage? Thanks to the Pappy’s Bar for hosting the Minong Trail Club. \n 
URL:http://www.minongtrails.com/wp/event/meat-raffle-pappys-bar-9/
LOCATION:Pappy’s Bar\, W8296 Highway 77\, Trego\, WI\, 54888\, United States
END:VEVENT
BEGIN:VEVENT
DTSTART;VALUE=DATE:20251227
DTEND;VALUE=DATE:20251228
DTSTAMP:20260423T143946
CREATED:20250328T190751Z
LAST-MODIFIED:20250328T190751Z
UID:1634-1766793600-1766879999@www.minongtrails.com
SUMMARY:No Meat Raffle today.
DESCRIPTION:We wish you a very Merry Christmas.
URL:http://www.minongtrails.com/wp/event/no-meat-raffle-today/
LOCATION:WI
END:VEVENT
BEGIN:VEVENT
DTSTART;TZID=America/Chicago:20251216T180000
DTEND;TZID=America/Chicago:20251216T190000
DTSTAMP:20260423T143946
CREATED:20250113T174051Z
LAST-MODIFIED:20250113T174051Z
UID:1575-1765908000-1765911600@www.minongtrails.com
SUMMARY:Club Meeting
DESCRIPTION:Club meeting at the Trails Clubhouse starting at 6:00PM.
URL:http://www.minongtrails.com/wp/event/club-meeting-47/
LOCATION:Minong Trails Club\, 802 S. Railroad St\, Minong\, WI\, 54859\, United States
END:VEVENT
BEGIN:VEVENT
DTSTART;TZID=America/Chicago:20251213T140000
DTEND;TZID=America/Chicago:20251213T150000
DTSTAMP:20260423T143946
CREATED:20251028T224548Z
LAST-MODIFIED:20251028T224548Z
UID:1705-1765634400-1765638000@www.minongtrails.com
SUMMARY:Meat Raffle - Longbranch Saloon & Grill
DESCRIPTION:Join meat raffle team as they call out the winning numbers and present the prize for that spin at the Longbranch Saloon & Grill in Minong. The orange paddles are available for rent at $10 each and are valid for all prize giveaways. During half-time you will have the opportunity rent a green paddle for the 50/25/25 giveaway as well as at the conclusion of the prizes raffle. The festivities begin at 2:00 PM so arrive early to make sure you have your beverage of choice in hand\, not a requirement but why not. Thank you to the Longbranch Saloon & Grille for hosting and thank you for your support of our event.
URL:http://www.minongtrails.com/wp/event/meat-raffle-longbranch-saloon-grill-3/
LOCATION:WI
END:VEVENT
BEGIN:VEVENT
DTSTART;VALUE=DATE:20251122
DTEND;VALUE=DATE:20251123
DTSTAMP:20260423T143946
CREATED:20250328T190315Z
LAST-MODIFIED:20250328T190315Z
UID:1632-1763769600-1763855999@www.minongtrails.com
SUMMARY:Sorry no meat raffle today
DESCRIPTION:The club does not have a meat raffle today.
URL:http://www.minongtrails.com/wp/event/sorry-no-meat-raffle-today/
LOCATION:WI
END:VEVENT
BEGIN:VEVENT
DTSTART;TZID=America/Chicago:20251118T180000
DTEND;TZID=America/Chicago:20251118T190000
DTSTAMP:20260423T143946
CREATED:20250113T174014Z
LAST-MODIFIED:20250113T174014Z
UID:1573-1763488800-1763492400@www.minongtrails.com
SUMMARY:Club Meeting
DESCRIPTION:Club meeting at the Trails Clubhouse starting at 6:00PM.
URL:http://www.minongtrails.com/wp/event/club-meeting-46/
LOCATION:Minong Trails Club\, 802 S. Railroad St\, Minong\, WI\, 54859\, United States
END:VEVENT
BEGIN:VEVENT
DTSTART;TZID=America/Chicago:20251108T140000
DTEND;TZID=America/Chicago:20251108T150000
DTSTAMP:20260423T143946
CREATED:20250821T122536Z
LAST-MODIFIED:20250821T122536Z
UID:1684-1762610400-1762614000@www.minongtrails.com
SUMMARY:Meat Raffle - P&L Corner Bar
DESCRIPTION:Join the Minong Trail Club meat raffle crew at the P&L Corner Bar for another fun afternoon. For the small token of $10USD you can rent a paddle for all the spins. We will have a 50/50 opportunity at halftime as well at the conclusion of the activities. The festivities begin at 2:00 PM so get there early to make sure you have your beverage of choice. Not a requirement but hey what’s a meat raffle without a beverage? Thanks to the P&L Corner Bar for hosting the Minong Trail Club.
URL:http://www.minongtrails.com/wp/event/meat-raffle-pl-corner-bar-8/
LOCATION:P&L Corner Bar\, 203 W. 5th Ave\, Minong\, WI\, 54859\, United States
END:VEVENT
BEGIN:VEVENT
DTSTART;TZID=America/Chicago:20251025T140000
DTEND;TZID=America/Chicago:20251025T150000
DTSTAMP:20260423T143946
CREATED:20250820T015958Z
LAST-MODIFIED:20250820T015958Z
UID:1678-1761400800-1761404400@www.minongtrails.com
SUMMARY:Meat Raffle - Wolf Point Bar & Grill
DESCRIPTION:Join the Minong Trail Club meat raffle crew at Wolf Point Bar & Grill for another fun afternoon. For the small token of $10USD you can rent a paddle for all the spins. After all prizes are awarded the paddles will be gathered and you can re-rent them again for the extremally low price of $5USD each to be in a 50/50 spin. The festivities begin at 2:00 PM so get there early to make sure you have your beverage of choice. Not a requirement but hey what’s a meat raffle without a beverage? Thanks to Wolf Point Bar & Grill for hosting the Minong Trail Club.
URL:http://www.minongtrails.com/wp/event/meat-raffle-wolf-point-bar-grill-9/
LOCATION:Wolf Point Bar & Grill\, W4186 County Hwy F\, Springbrook\, WI\, 54875\, United States
END:VEVENT
BEGIN:VEVENT
DTSTART;TZID=America/Chicago:20251021T180000
DTEND;TZID=America/Chicago:20251021T190000
DTSTAMP:20260423T143946
CREATED:20250113T173938Z
LAST-MODIFIED:20250113T173938Z
UID:1571-1761069600-1761073200@www.minongtrails.com
SUMMARY:Club Meeting
DESCRIPTION:Club meeting at the Trails Clubhouse starting at 6:00PM.
URL:http://www.minongtrails.com/wp/event/club-meeting-45/
LOCATION:Minong Trails Club\, 802 S. Railroad St\, Minong\, WI\, 54859\, United States
END:VEVENT
BEGIN:VEVENT
DTSTART;TZID=America/Chicago:20251011T140000
DTEND;TZID=America/Chicago:20251011T150000
DTSTAMP:20260423T143946
CREATED:20250820T020158Z
LAST-MODIFIED:20250820T020158Z
UID:1680-1760191200-1760194800@www.minongtrails.com
SUMMARY:Meat Raffle - Stanberry Rail Saloon
DESCRIPTION:Join the Minong Trail Club meat raffle crew along with new owners Lori & Ted at the Stanberry Rail Saloon for another fun afternoon. For the small token of $10USD you can rent a paddle for all the spins. We will conduct a 50/50 raffle during halftime and also to conclude the activities. The festivities begin at 2:00 PM so get there early to make sure you have your beverage of choice. Not a requirement but hey what’s a meat raffle without a beverage? Thanks to Lori & Ted for hosting the Minong Trail Club.
URL:http://www.minongtrails.com/wp/event/meat-raffle-stanberry-rail-saloon-6/
LOCATION:Stanberry Rail Saloon\, N10303 County Hwy M\, Springbrook\, WI\, 54875\, United States
END:VEVENT
BEGIN:VEVENT
DTSTART;TZID=America/Chicago:20250927T140000
DTEND;TZID=America/Chicago:20250927T150000
DTSTAMP:20260423T143946
CREATED:20250820T020404Z
LAST-MODIFIED:20250820T020404Z
UID:1682-1758981600-1758985200@www.minongtrails.com
SUMMARY:Meat Raffle _ Silver Lake Saloon
DESCRIPTION:Join the Minong Trail Club meat raffle crew at the Silver Lake Saloon for another fun afternoon. For the small token of $10USD you can rent a paddle for all the spins. After all prizes are awarded the paddles will be gathered and you can re-rent them again for the extremally low price of $5USD each to be in a 50/50 spin. The festivities begin at 2:00 PM so get there early to make sure you have your beverage of choice. Not a requirement but hey what’s a meat raffle without a beverage? Thanks to the Silver Lake Saloon for hosting the Minong Trail Club.
URL:http://www.minongtrails.com/wp/event/meat-raffle-_-silver-lake-saloon/
LOCATION:Silver Lake Saloon\, N9698 Lakeside Road\, Trego\, WI\, 54888\, United States
END:VEVENT
BEGIN:VEVENT
DTSTART;TZID=America/Chicago:20250916T180000
DTEND;TZID=America/Chicago:20250916T190000
DTSTAMP:20260423T143946
CREATED:20250113T173852Z
LAST-MODIFIED:20250113T173852Z
UID:1569-1758045600-1758049200@www.minongtrails.com
SUMMARY:Club Meeting
DESCRIPTION:Club meeting at the Trails Clubhouse starting at 6:00PM.
URL:http://www.minongtrails.com/wp/event/club-meeting-44/
LOCATION:Minong Trails Club\, 802 S. Railroad St\, Minong\, WI\, 54859\, United States
END:VEVENT
BEGIN:VEVENT
DTSTART;TZID=America/Chicago:20250913T140000
DTEND;TZID=America/Chicago:20250913T150000
DTSTAMP:20260423T143946
CREATED:20250622T225125Z
LAST-MODIFIED:20250622T225125Z
UID:1650-1757772000-1757775600@www.minongtrails.com
SUMMARY:Meat Raffle - Chubby Cheeks Bar & Grill
DESCRIPTION:Join the Minong Trail Club meat raffle crew at Chubby Cheeks Bar & Grill for another fun afternoon. For the small token of $10USD you can rent a paddle for all the spins. At halftime we will conduct 50/25/25 spins and again at the end to conclude the activities. The festivities begin at 2:00 PM so get there early to make sure you have your beverage of choice. Not a requirement but hey what’s a meat raffle without a beverage? Thanks to Chubby Cheeks Bar & Grill for hosting the Minong Trail Club.
URL:http://www.minongtrails.com/wp/event/meat-raffle-chubby-cheeks-bar-grill/
LOCATION:Chubby Cheeks Bar & Grill\, 16095 S. Chipmunk Hollow Road\, Wascott\, WI\, 54859
END:VEVENT
BEGIN:VEVENT
DTSTART;TZID=America/Chicago:20250823T130000
DTEND;TZID=America/Chicago:20250823T160000
DTSTAMP:20260423T143946
CREATED:20250622T232457Z
LAST-MODIFIED:20250710T183522Z
UID:1654-1755954000-1755964800@www.minongtrails.com
SUMMARY:Meat Raffle - Town of Chicog Fun Fest
DESCRIPTION:Join the Minong Trail Club meat raffle crew at the Town of Chicog Fun Fest for another fun afternoon. For the small token of $10USD you can rent a paddle for all the spins. At halftime we will conduct 50/25/25 spins and again at the end to conclude the activities. There will be two raffles today festivities begin at 1:00 PM with the second raffle beginning at 3:00 PM. Get there early to enjoy all the Fun Fest activities. Thanks to the Town of Chicog for hosting the Minong Trail Club.
URL:http://www.minongtrails.com/wp/event/meat-raffle-town-of-chicog-fun-fest/
LOCATION:Town of Chicog\, W8499 State Hwy 77\, Trego\, WI\, 54888
END:VEVENT
BEGIN:VEVENT
DTSTART;TZID=America/Chicago:20250819T180000
DTEND;TZID=America/Chicago:20250819T190000
DTSTAMP:20260423T143946
CREATED:20250113T173627Z
LAST-MODIFIED:20250113T174207Z
UID:1561-1755626400-1755630000@www.minongtrails.com
SUMMARY:Club Meeting
DESCRIPTION:Club meeting at the Trails Clubhouse starting at 6:00PM.
URL:http://www.minongtrails.com/wp/event/club-meeting-40/
LOCATION:Minong Trails Club\, 802 S. Railroad St\, Minong\, WI\, 54859\, United States
END:VEVENT
BEGIN:VEVENT
DTSTART;TZID=America/Chicago:20250809T140000
DTEND;TZID=America/Chicago:20250809T150000
DTSTAMP:20260423T143946
CREATED:20250708T104255Z
LAST-MODIFIED:20250708T104354Z
UID:1671-1754748000-1754751600@www.minongtrails.com
SUMMARY:Meat Raffle - Bootleggers Bar & Grille
DESCRIPTION:Join the Minong Trail Club meat raffle crew at the Bootleggers Bar & Grill for another fun afternoon. For the small token of $10USD you can rent a paddle for all the spins. At half-time and at the conclusion of the raffle we will have a 50/25/25 opportunity for the low entry cost of $5 USD. The festivities begin at 2:00 PM so get there early to make sure you have your beverage of choice. Not a requirement but hey what’s a meat raffle without a beverage? Thanks to the Bootleggers Bar & Grill for hosting the Minong Trail Club.
URL:http://www.minongtrails.com/wp/event/meat-raffle-bootleggers-bar-grille/
LOCATION:Bootleggers Bar & Grill\, 16310 US-53\, Minong\, WI\, 54859\, United States
END:VEVENT
BEGIN:VEVENT
DTSTART;TZID=America/Chicago:20250726T140000
DTEND;TZID=America/Chicago:20250726T150000
DTSTAMP:20260423T143946
CREATED:20250521T152823Z
LAST-MODIFIED:20250521T152823Z
UID:1636-1753538400-1753542000@www.minongtrails.com
SUMMARY:Meat Raffle - Seaman's
DESCRIPTION:Join the Minong Trail Club meat raffle crew at Seaman’s for another fun afternoon. For the small token of $10USD you can rent an orange paddle for all the spins. During half-time you will have the opportunity to rent a green paddle for the 50/25/25 spin\, then again after all the prizes have been awarded there will be another opportunity at another 50/25/25. The festivities begin at 2:00 PM so get there early to make sure you have your beverage of choice. Not a requirement but hey what’s a meat raffle without a beverage? Thanks to Seaman’s for hosting the Minong Trail Club.
URL:http://www.minongtrails.com/wp/event/meat-raffle-seamans-3/
LOCATION:Seaman’s Resort\, 16666 S. Flowage Road\, Wascott\, WI\, 54838\, United States
END:VEVENT
BEGIN:VEVENT
DTSTART;TZID=America/Chicago:20250715T180000
DTEND;TZID=America/Chicago:20250715T190000
DTSTAMP:20260423T143946
CREATED:20250113T173741Z
LAST-MODIFIED:20250113T173741Z
UID:1565-1752602400-1752606000@www.minongtrails.com
SUMMARY:Club Meeting
DESCRIPTION:Club meeting at the Trails Clubhouse starting at 6:00PM.
URL:http://www.minongtrails.com/wp/event/club-meeting-42/
LOCATION:Minong Trails Club\, 802 S. Railroad St\, Minong\, WI\, 54859\, United States
END:VEVENT
BEGIN:VEVENT
DTSTART;TZID=America/Chicago:20250712T140000
DTEND;TZID=America/Chicago:20250712T150000
DTSTAMP:20260423T143946
CREATED:20250622T224138Z
LAST-MODIFIED:20250622T224138Z
UID:1646-1752328800-1752332400@www.minongtrails.com
SUMMARY:Meat Raffle - Wolf Point Bar & Grill
DESCRIPTION:Join the Minong Trail Club meat raffle crew at Wolf Point Bar & Grill for another fun afternoon. For the small token of $10USD you can rent a paddle for all the spins. At halftime we will conduct 50/25/25 spins and again at the end to conclude the activities. The festivities begin at 2:00 PM so get there early to make sure you have your beverage of choice. Not a requirement but hey what’s a meat raffle without a beverage? Thanks to the New Owners of Wolf Point Bar & Grill for hosting the Minong Trail Club.
URL:http://www.minongtrails.com/wp/event/meat-raffle-wolf-point-bar-grill-8/
LOCATION:Wolf Point Bar & Grill\, W4186 County Hwy F\, Springbrook\, WI\, 54875\, United States
END:VEVENT
BEGIN:VEVENT
DTSTART;TZID=America/Chicago:20250628T140000
DTEND;TZID=America/Chicago:20250628T150000
DTSTAMP:20260423T143946
CREATED:20250613T183953Z
LAST-MODIFIED:20250613T183953Z
UID:1644-1751119200-1751122800@www.minongtrails.com
SUMMARY:Meat Raffle - Pappy's Bar
DESCRIPTION:Join the Minong Trail Club meat raffle crew at Pappy’s Bar. For the small token of $10USD you can rent a paddle for all the spins. Will also have a couple of 50/25/25 raffles. The festivities begin at 2:00 PM so get there early to make sure you have your beverage of choice. Not a requirement but hey what’s a meat raffle without a beverage? Thanks to the Pappy’s Bar for hosting the Minong Trail Club.
URL:http://www.minongtrails.com/wp/event/meat-raffle-pappys-bar-8/
LOCATION:Pappy’s Bar\, W8296 Highway 77\, Trego\, WI\, 54888\, United States
END:VEVENT
BEGIN:VEVENT
DTSTART;TZID=America/Chicago:20250617T180000
DTEND;TZID=America/Chicago:20250617T190000
DTSTAMP:20260423T143946
CREATED:20250113T173704Z
LAST-MODIFIED:20250113T173704Z
UID:1563-1750183200-1750186800@www.minongtrails.com
SUMMARY:Club Meeting
DESCRIPTION:Club meeting at the Trails Clubhouse starting at 6:00PM.
URL:http://www.minongtrails.com/wp/event/club-meeting-41/
LOCATION:Minong Trails Club\, 802 S. Railroad St\, Minong\, WI\, 54859\, United States
END:VEVENT
END:VCALENDAR