BEGIN:VCALENDAR
VERSION:2.0
PRODID:-//Minong Trails Club - ECPv6.15.20//NONSGML v1.0//EN
CALSCALE:GREGORIAN
METHOD:PUBLISH
X-WR-CALNAME:Minong Trails Club
X-ORIGINAL-URL:http://www.minongtrails.com/wp
X-WR-CALDESC:Events for Minong Trails Club
REFRESH-INTERVAL;VALUE=DURATION:PT1H
X-Robots-Tag:noindex
X-PUBLISHED-TTL:PT1H
BEGIN:VTIMEZONE
TZID:America/Chicago
BEGIN:DAYLIGHT
TZOFFSETFROM:-0600
TZOFFSETTO:-0500
TZNAME:CDT
DTSTART:20220313T080000
END:DAYLIGHT
BEGIN:STANDARD
TZOFFSETFROM:-0500
TZOFFSETTO:-0600
TZNAME:CST
DTSTART:20221106T070000
END:STANDARD
BEGIN:DAYLIGHT
TZOFFSETFROM:-0600
TZOFFSETTO:-0500
TZNAME:CDT
DTSTART:20230312T080000
END:DAYLIGHT
BEGIN:STANDARD
TZOFFSETFROM:-0500
TZOFFSETTO:-0600
TZNAME:CST
DTSTART:20231105T070000
END:STANDARD
BEGIN:DAYLIGHT
TZOFFSETFROM:-0600
TZOFFSETTO:-0500
TZNAME:CDT
DTSTART:20240310T080000
END:DAYLIGHT
BEGIN:STANDARD
TZOFFSETFROM:-0500
TZOFFSETTO:-0600
TZNAME:CST
DTSTART:20241103T070000
END:STANDARD
END:VTIMEZONE
BEGIN:VEVENT
DTSTART;TZID=America/Chicago:20231111T140000
DTEND;TZID=America/Chicago:20231111T150000
DTSTAMP:20260425T085240
CREATED:20231012T223428Z
LAST-MODIFIED:20231012T223452Z
UID:1194-1699711200-1699714800@www.minongtrails.com
SUMMARY:Meat Raffle - Stanberry Rail Saloon
DESCRIPTION:Join the Minong Trail Club meat raffle crew at the Stanberry Rail Saloon for another fun afternoon. For the small token of $10USD you can rent a paddle for all the spins. After all prizes are awarded the paddles will be gathered and you can re-rent them again for the extremally low price of $5USD each to be in a 50/50 spin. The festivities begin at 2:00 PM so get there early to make sure you have your beverage of choice. Not a requirement but hey what’s a meat raffle without a beverage? Thanks to Wayne & Denise for hosting the Minong Trail Club.
URL:http://www.minongtrails.com/wp/event/meat-raffle-stanberry-rail-saloon-4/
LOCATION:Stanberry Rail Saloon\, N10303 County Hwy M\, Springbrook\, WI\, 54875\, United States
END:VEVENT
BEGIN:VEVENT
DTSTART;TZID=America/Chicago:20231108T180000
DTEND;TZID=America/Chicago:20231108T190000
DTSTAMP:20260425T085240
CREATED:20221016T155638Z
LAST-MODIFIED:20221016T155638Z
UID:951-1699466400-1699470000@www.minongtrails.com
SUMMARY:Club Meeting
DESCRIPTION:Club meeting at the Trails Clubhouse starting at 6:00PM.
URL:http://www.minongtrails.com/wp/event/club-meeting-21/
LOCATION:Minong Trails Club\, 802 S. Railroad St\, Minong\, WI\, 54859\, United States
END:VEVENT
BEGIN:VEVENT
DTSTART;TZID=America/Chicago:20231028T140000
DTEND;TZID=America/Chicago:20231028T150000
DTSTAMP:20260425T085240
CREATED:20230928T014229Z
LAST-MODIFIED:20231002T201226Z
UID:1149-1698501600-1698505200@www.minongtrails.com
SUMMARY:Meat Raffle - Wolf Point Bar & Grill
DESCRIPTION:Join the Minong Trail Club meat raffle crew at Wolf Point Bar & Grill for another fun afternoon. For the small token of $10USD you can rent a paddle for all the spins. After all prizes are awarded the paddles will be gathered and you can re-rent them again for the extremally low price of $5USD each to be in a 50/50 spin. The festivities begin at 2:00 PM so get there early to make sure you have your beverage of choice. Not a requirement but hey what’s a meat raffle without a beverage? Thanks to Wolf Point Bar & Grill for hosting the Minong Trail Club.
URL:http://www.minongtrails.com/wp/event/meat-raffle-wolf-point-bar-grill-3/
LOCATION:Wolf Point Bar & Grill\, W4186 County Hwy F\, Springbrook\, WI\, 54875\, United States
END:VEVENT
BEGIN:VEVENT
DTSTART;TZID=America/Chicago:20231014T140000
DTEND;TZID=America/Chicago:20231014T150000
DTSTAMP:20260425T085240
CREATED:20231012T223809Z
LAST-MODIFIED:20231012T223924Z
UID:1197-1697292000-1697295600@www.minongtrails.com
SUMMARY:Meat Raffle - P&L Corner Bar
DESCRIPTION:Join the Minong Trail Club meat raffle crew at P&L Corner Bar for another fun afternoon. For the small token of $10USD you can rent a paddle for all the spins. After all prizes are awarded the paddles will be gathered and you can re-rent them again for the extremally low price of $5USD each to be in a 50/50 spin. The festivities begin at 2:00 PM so get there early to make sure you have your beverage of choice. Not a requirement but hey what’s a meat raffle without a beverage? Thanks to Phil & Lisa for hosting the Minong Trail Club.
URL:http://www.minongtrails.com/wp/event/1197/
LOCATION:P&L Corner Bar\, 203 W. 5th Ave\, Minong\, WI\, 54859\, United States
END:VEVENT
BEGIN:VEVENT
DTSTART;TZID=America/Chicago:20231011T180000
DTEND;TZID=America/Chicago:20231011T190000
DTSTAMP:20260425T085240
CREATED:20221016T155551Z
LAST-MODIFIED:20221016T155551Z
UID:949-1697047200-1697050800@www.minongtrails.com
SUMMARY:Club Meeting
DESCRIPTION:Club meeting at the Trails Clubhouse starting at 6:00PM.
URL:http://www.minongtrails.com/wp/event/club-meeting-20/
LOCATION:Minong Trails Club\, 802 S. Railroad St\, Minong\, WI\, 54859\, United States
END:VEVENT
BEGIN:VEVENT
DTSTART;TZID=America/Chicago:20231009T140000
DTEND;TZID=America/Chicago:20231009T150000
DTSTAMP:20260425T085240
CREATED:20231001T165649Z
LAST-MODIFIED:20231001T165649Z
UID:1183-1696860000-1696863600@www.minongtrails.com
SUMMARY:Tavern League Presentation
DESCRIPTION:The Minong Trails Club has been informed that the Tavern League will be presenting the club with a financial donation at their meeting at Twin Oaks Bar & Grill. It would be wonderful to have a great turnout for this event. Wear your Minong Trails attire.
URL:http://www.minongtrails.com/wp/event/tavern-league-presentation/
LOCATION:Twin Oaks Bar & Grill\, W7650 County Highway E\, Spooner\, WI\, 54801\, United States
END:VEVENT
BEGIN:VEVENT
DTSTART;TZID=America/Chicago:20230923T140000
DTEND;TZID=America/Chicago:20230923T170000
DTSTAMP:20260425T085240
CREATED:20230825T125040Z
LAST-MODIFIED:20230825T125040Z
UID:1139-1695477600-1695488400@www.minongtrails.com
SUMMARY:Meat Raffle - Pappy's
DESCRIPTION:Join the Minong Trail Club meat raffle crew at Pappy’s Bar for another fun afternoon. For the small token of $10USD you can rent a paddle for all the spins. After all prizes are awarded the paddles will be gathered and you can re-rent them for the extremally low price of $5USD each to be in a 50/50 spin. The festivities begin at 2:00 PM so get there early to make sure you have your beverage of choice. Not a requirement but hey what’s a meat raffle without a beverage? Thanks to the Pappy’s Bar for hosting the Minong Trail Club.
URL:http://www.minongtrails.com/wp/event/meat-raffle-pappys/
LOCATION:Pappy’s Bar\, W8296 Highway 77\, Trego\, WI\, 54888\, United States
END:VEVENT
BEGIN:VEVENT
DTSTART;TZID=America/Chicago:20230916T090000
DTEND;TZID=America/Chicago:20230916T170000
DTSTAMP:20260425T085240
CREATED:20220304T070458Z
LAST-MODIFIED:20230112T132633Z
UID:691-1694854800-1694883600@www.minongtrails.com
SUMMARY:ATV-UTV Poker Run
DESCRIPTION:Join us for the 13th annual ATV-UTV Color Tour – Poker Run on September 16\, 2023. Registration is from 9-11AM at the Minong Trails Club clubhouse. We will close the day @ P&L Corner Bar for food and refreshments. Thank you to Phil and Lisa for their generous offer to host us.
URL:http://www.minongtrails.com/wp/event/atv-utv-poker-run/
LOCATION:Minong Trails Club\, 802 S. Railroad St\, Minong\, WI\, 54859\, United States
END:VEVENT
BEGIN:VEVENT
DTSTART;TZID=America/Chicago:20230915T070000
DTEND;TZID=America/Chicago:20230915T153000
DTSTAMP:20260425T085240
CREATED:20230813T163447Z
LAST-MODIFIED:20230814T155237Z
UID:1132-1694761200-1694791800@www.minongtrails.com
SUMMARY:GEAR-UP WISCONSIN presented by RideSafe powered by BRP
DESCRIPTION:MINONG\, WISCONSIN: GEAR-UP WISCONSIN\n\nSEPTEMBER 15 @ 7:00 AM – 3:30 PM\n\n\n\nThe RideSafe Foundation\, in partnership with BRP\, is helping communities educate children and adults about the importance of powersports safety and raise cultural expectations for proper gear and certification. \n\nIn the United States 1-in-5 ATV related fatalities is a child under the age of 16.\nIn 9 out of 10 incidents\, the victim is not wearing a helmet.\nIn 95% of cases the victim had not received safety certification.\n\nRideSafe\, BRP\, our athlete influencers\, and our partners aim to educate on safety\, etiquette and the environment. \nWe are committed to making sure children get the message. \nThis program is being presented to the students at Northwoods School.
URL:http://www.minongtrails.com/wp/event/gear-up-wisconsin-presented-by-ridesafe-powered-by-brp/
LOCATION:Northwoods School\, N14463 US-53\, Minong\, WI\, 54859\, United States
END:VEVENT
BEGIN:VEVENT
DTSTART;TZID=America/Chicago:20230913T180000
DTEND;TZID=America/Chicago:20230913T190000
DTSTAMP:20260425T085240
CREATED:20221016T155347Z
LAST-MODIFIED:20221016T155347Z
UID:947-1694628000-1694631600@www.minongtrails.com
SUMMARY:Club Meeting
DESCRIPTION:Club meeting at the Trails Clubhouse starting at 6:00PM.
URL:http://www.minongtrails.com/wp/event/club-meeting-19/
LOCATION:Minong Trails Club\, 802 S. Railroad St\, Minong\, WI\, 54859\, United States
END:VEVENT
BEGIN:VEVENT
DTSTART;TZID=America/Chicago:20230909T140000
DTEND;TZID=America/Chicago:20230909T150000
DTSTAMP:20260425T085240
CREATED:20230825T190814Z
LAST-MODIFIED:20230825T191601Z
UID:1141-1694268000-1694271600@www.minongtrails.com
SUMMARY:Meat Raffle - Bootleggers
DESCRIPTION:Join the Minong Trail Club travelling meat raffle crew at the Bootleggers Bar & Grill for another fun afternoon. For the small token of $10USD you can rent a paddle for all the spins. After all prizes are awarded the paddles will be gathered and you can re-rent them again for the extremally low price of $5USD each to be in a 50/50 spin. The festivities begin at 2:00 PM so get there early to make sure you have your beverage of choice. Not a requirement but hey what’s a meat raffle without a beverage? Thanks to the Bootleggers Bar & Grill for hosting the Minong Trail Club.
URL:http://www.minongtrails.com/wp/event/meat-raffle-bootleggers-2/
LOCATION:Bootleggers Bar & Grill\, 16310 US-53\, Minong\, WI\, 54859\, United States
END:VEVENT
BEGIN:VEVENT
DTSTART;TZID=America/Chicago:20230826T140000
DTEND;TZID=America/Chicago:20230826T150000
DTSTAMP:20260425T085240
CREATED:20230813T130129Z
LAST-MODIFIED:20230813T130129Z
UID:1126-1693058400-1693062000@www.minongtrails.com
SUMMARY:Meat Raffle - P&L Corner Bar
DESCRIPTION:Join the Minong Trail Club meat raffle crew at P&L Corner Bar for another fun afternoon. For the small token of $10USD you can rent a paddle for all the spins. After all prizes are awarded the paddles will be gathered and you can re-rent them again for the extremally low price of $5USD each to be in a 50/50 spin. The festivities begin at 2:00 PM so get there early to make sure you have your beverage of choice. Not a requirement but hey what’s a meat raffle without a beverage? Thanks to P&L Corner Bar for hosting the Minong Trail Club.
URL:http://www.minongtrails.com/wp/event/meat-raffle-pl-corner-bar-2/
LOCATION:P&L Corner Bar\, 203 W. 5th Ave\, Minong\, WI\, 54859\, United States
END:VEVENT
BEGIN:VEVENT
DTSTART;TZID=America/Chicago:20230812T140000
DTEND;TZID=America/Chicago:20230812T150000
DTSTAMP:20260425T085240
CREATED:20230614T021956Z
LAST-MODIFIED:20230717T204714Z
UID:1113-1691848800-1691852400@www.minongtrails.com
SUMMARY:Meat Raffle - Seaman's
DESCRIPTION:Join the Minong Trail Club meat raffle crew at Seaman’s for another fun afternoon. For the small token of $10USD you can rent a paddle for all the spins. After all prizes are awarded the paddles will be gathered and you can re-rent them again for the extremally low price of $5USD each to be in a 50/50 spin. The festivities begin at 2:00 PM so get there early to make sure you have your beverage of choice. Not a requirement but hey what’s a meat raffle without a beverage? Thanks to Seaman’s for hosting the Minong Trail Club.
URL:http://www.minongtrails.com/wp/event/meat-raffle-seamans/
LOCATION:Seaman’s Resort\, 16666 S. Flowage Road\, Wascott\, WI\, 54838\, United States
END:VEVENT
BEGIN:VEVENT
DTSTART;VALUE=DATE:20230811
DTEND;VALUE=DATE:20230814
DTSTAMP:20260425T085240
CREATED:20230112T140110Z
LAST-MODIFIED:20230112T140110Z
UID:1074-1691712000-1691971199@www.minongtrails.com
SUMMARY:Minong Summer Days
DESCRIPTION:Join the fun at Minong Summer Days. Sponsored by the Minong Chamber of Commerce. Click on the club sponsor tab for the Chamber of Commerce link.
URL:http://www.minongtrails.com/wp/event/minong-summer-days-2/
LOCATION:WI
END:VEVENT
BEGIN:VEVENT
DTSTART;TZID=America/Chicago:20230809T180000
DTEND;TZID=America/Chicago:20230809T190000
DTSTAMP:20260425T085240
CREATED:20221016T155300Z
LAST-MODIFIED:20221016T155300Z
UID:945-1691604000-1691607600@www.minongtrails.com
SUMMARY:Club Meeting
DESCRIPTION:Club meeting at the Trails Clubhouse starting at 6:00PM.
URL:http://www.minongtrails.com/wp/event/club-meeting-18/
LOCATION:Minong Trails Club\, 802 S. Railroad St\, Minong\, WI\, 54859\, United States
END:VEVENT
BEGIN:VEVENT
DTSTART;TZID=America/Chicago:20230722T140000
DTEND;TZID=America/Chicago:20230722T150000
DTSTAMP:20260425T085240
CREATED:20230614T021047Z
LAST-MODIFIED:20230614T022304Z
UID:1109-1690034400-1690038000@www.minongtrails.com
SUMMARY:Meat Raffle - Heartwood Journey's
DESCRIPTION:Join the Minong Trail Club meat raffle crew at Heartwood Journey’s for another fun afternoon. For the small token of $10USD you can rent a paddle for all the spins. After all prizes are awarded the paddles will be gathered and you can re-rent them again for the extremally low price of $5USD each to be in a 50/50 spin. The festivities begin at 2:00 PM so get there early to make sure you have your beverage of choice. Not a requirement but hey what’s a meat raffle without a beverage? Thanks to Heartwood Journey’s for hosting the Minong Trail Club.
URL:http://www.minongtrails.com/wp/event/meat-raffle-heartwood-journeys/
LOCATION:Heartwood Journeys\, N11289 Hoinville Road\, Trego\, WI\, 54888\, United States
END:VEVENT
BEGIN:VEVENT
DTSTART;TZID=America/Chicago:20230712T180000
DTEND;TZID=America/Chicago:20230712T190000
DTSTAMP:20260425T085240
CREATED:20221016T155209Z
LAST-MODIFIED:20221016T155209Z
UID:943-1689184800-1689188400@www.minongtrails.com
SUMMARY:Club Meeting
DESCRIPTION:Club meeting at the Trails Clubhouse starting at 6:00PM.
URL:http://www.minongtrails.com/wp/event/club-meeting-17/
LOCATION:Minong Trails Club\, 802 S. Railroad St\, Minong\, WI\, 54859\, United States
END:VEVENT
BEGIN:VEVENT
DTSTART;TZID=America/Chicago:20230708T140000
DTEND;TZID=America/Chicago:20230708T150000
DTSTAMP:20260425T085240
CREATED:20230625T151011Z
LAST-MODIFIED:20230625T151011Z
UID:1120-1688824800-1688828400@www.minongtrails.com
SUMMARY:Meat Raffle - Stanberry Rail Saloon
DESCRIPTION:Join the Minong Trail Club meat raffle crew at the Stanberry Rail Saloon for another fun afternoon. For the small token of $10USD you can rent a paddle for all the spins. After all prizes are awarded the paddles will be gathered and you can re-rent them again for the extremally low price of $5USD each to be in a 50/50 spin. The festivities begin at 2:00 PM so get there early to make sure you have your beverage of choice. Not a requirement but hey what’s a meat raffle without a beverage? Thanks to the Stanberry Rail Saloon for hosting the Minong Trail Club.
URL:http://www.minongtrails.com/wp/event/meat-raffle-stanberry-rail-saloon-2/
LOCATION:Stanberry Rail Saloon\, N10303 County Hwy M\, Springbrook\, WI\, 54875\, United States
END:VEVENT
BEGIN:VEVENT
DTSTART;TZID=America/Chicago:20230624T140000
DTEND;TZID=America/Chicago:20230624T150000
DTSTAMP:20260425T085240
CREATED:20230425T165224Z
LAST-MODIFIED:20230614T022344Z
UID:1093-1687615200-1687618800@www.minongtrails.com
SUMMARY:Meat Raffle - Silver Lake Saloon
DESCRIPTION:Join the Minong Trail Club meat raffle crew at the Silver Lake Saloon for another fun afternoon. For the small token of $10USD you can rent a paddle for all the spins. After all prizes are awarded the paddles will be gathered and you can re-rent them again for the extremally low price of $5USD each to be in a 50/50 spin. The festivities begin at 2:00 PM so get there early to make sure you have your beverage of choice. Not a requirement but hey what’s a meat raffle without a beverage? Thanks to the Silver Lake Saloon for hosting the Minong Trail Club.
URL:http://www.minongtrails.com/wp/event/meat-raffle-silver-lake-saloon/
LOCATION:Silver Lake Saloon\, N9698 Lakeside Road\, Trego\, WI\, 54888\, United States
END:VEVENT
BEGIN:VEVENT
DTSTART;TZID=America/Chicago:20230614T180000
DTEND;TZID=America/Chicago:20230614T190000
DTSTAMP:20260425T085240
CREATED:20221016T155124Z
LAST-MODIFIED:20221016T155124Z
UID:941-1686765600-1686769200@www.minongtrails.com
SUMMARY:Club Meeting
DESCRIPTION:Club meeting at the Trails Clubhouse starting at 6:00PM.
URL:http://www.minongtrails.com/wp/event/club-meeting-16/
LOCATION:Minong Trails Club\, 802 S. Railroad St\, Minong\, WI\, 54859\, United States
END:VEVENT
BEGIN:VEVENT
DTSTART;TZID=America/Chicago:20230610T140000
DTEND;TZID=America/Chicago:20230610T150000
DTSTAMP:20260425T085240
CREATED:20230425T165434Z
LAST-MODIFIED:20230425T165816Z
UID:1095-1686405600-1686409200@www.minongtrails.com
SUMMARY:Meat Raffle - Nelson Lake Landing
DESCRIPTION:Join the Minong Trail Club meat raffle crew at the Nelson Lake Landing for another fun afternoon. For the small token of $10USD you can rent a paddle for all the spins. After all prizes are awarded the paddles will be gathered and you can re-rent them again for the extremally low price of $5USD each to be in a 50/50 spin. The festivities begin at 2:00 PM so get there early to make sure you have your beverage of choice. Not a requirement but hey what’s a meat raffle without a beverage? Thanks to Nelson Lake Landing for hosting the Minong Trail Club.
URL:http://www.minongtrails.com/wp/event/meat-raffle-nelson-lake-landing/
LOCATION:Nelson Lake Landing\, 13045 Dam Rd\,\, Hayward\, WI\, 54843\, United States
END:VEVENT
BEGIN:VEVENT
DTSTART;TZID=America/Chicago:20230513T140000
DTEND;TZID=America/Chicago:20230513T150000
DTSTAMP:20260425T085240
CREATED:20230425T170036Z
LAST-MODIFIED:20230425T170036Z
UID:1099-1683986400-1683990000@www.minongtrails.com
SUMMARY:Meat Raffle - Pappy's Bar
DESCRIPTION:Join the Minong Trail Club travelling meat raffle crew at Pappy’s Bar for another fun afternoon. For the small token of $10USD you can rent a paddle for all the spins. After all prizes are awarded the paddles will be gathered and you can re-rent them again for the extremally low price of $5USD each to be in a 50/50 spin. The festivities begin at 2:00 PM so get there early to make sure you have your beverage of choice. Not a requirement but hey what’s a meat raffle without a beverage? Thanks to the Pappy’s Bar for hosting the Minong Trail Club.
URL:http://www.minongtrails.com/wp/event/meat-raffle-pappys-bar-2/
LOCATION:Pappy’s Bar\, W8296 Highway 77\, Trego\, WI\, 54888\, United States
END:VEVENT
BEGIN:VEVENT
DTSTART;TZID=America/Chicago:20230510T180000
DTEND;TZID=America/Chicago:20230510T190000
DTSTAMP:20260425T085240
CREATED:20221016T155039Z
LAST-MODIFIED:20221016T155039Z
UID:939-1683741600-1683745200@www.minongtrails.com
SUMMARY:Club Meeting
DESCRIPTION:Club meeting at the Trails Clubhouse starting at 6:00PM.
URL:http://www.minongtrails.com/wp/event/club-meeting-15/
LOCATION:Minong Trails Club\, 802 S. Railroad St\, Minong\, WI\, 54859\, United States
END:VEVENT
BEGIN:VEVENT
DTSTART;VALUE=DATE:20230506
DTEND;VALUE=DATE:20230507
DTSTAMP:20260425T085240
CREATED:20230112T131516Z
LAST-MODIFIED:20230112T131910Z
UID:1067-1683331200-1683417599@www.minongtrails.com
SUMMARY:Poppleshoot Trail Race
DESCRIPTION:The Minong Trails Club is once again pleased to provide our facility as the check-in and finished point of the annual Poppleshoot Trail Race. \nhttps://ultrasignup.com/register.aspx?did=98864
URL:http://www.minongtrails.com/wp/event/poppleshoot-trail-race/
LOCATION:WI
END:VEVENT
BEGIN:VEVENT
DTSTART;TZID=America/Chicago:20230412T180000
DTEND;TZID=America/Chicago:20230412T190000
DTSTAMP:20260425T085240
CREATED:20221016T154945Z
LAST-MODIFIED:20221016T155757Z
UID:937-1681322400-1681326000@www.minongtrails.com
SUMMARY:Club Meeting
DESCRIPTION:Club meeting at the Trails Clubhouse starting at 6:00PM.
URL:http://www.minongtrails.com/wp/event/club-meeting-14/
LOCATION:Minong Trails Club\, 802 S. Railroad St\, Minong\, WI\, 54859\, United States
END:VEVENT
BEGIN:VEVENT
DTSTART;TZID=America/Chicago:20230408T140000
DTEND;TZID=America/Chicago:20230408T150000
DTSTAMP:20260425T085240
CREATED:20221021T221901Z
LAST-MODIFIED:20230326T154608Z
UID:1005-1680962400-1680966000@www.minongtrails.com
SUMMARY:Meat Raffle- Guzy's Italian Beef House & Pub
DESCRIPTION:Join the Minong Trail Club meat raffle crew at Gruzy’s Italian Beef House & Pub (the old Buck & Wing) for another fun afternoon. For the small token of $10USD you can rent a paddle for all the spins. After all prizes are awarded the paddles will be gathered and you can re-rent them again for the extremally low price of $5USD each to be in a 50/50 spin. The festivities begin at 2:00 PM so get there early to make sure you have your beverage of choice. Not a requirement but hey what’s a meat raffle without a beverage? Thanks to Gruzy’s Italian Beef House & Pub for hosting the Minong Trail Club.
URL:http://www.minongtrails.com/wp/event/meat-raffle-4/
LOCATION:WI
END:VEVENT
BEGIN:VEVENT
DTSTART;VALUE=DATE:20230407
DTEND;VALUE=DATE:20230408
DTSTAMP:20260425T085240
CREATED:20230405T200123Z
LAST-MODIFIED:20230405T200123Z
UID:1088-1680825600-1680911999@www.minongtrails.com
SUMMARY:Trails are closed
DESCRIPTION:Effective Frida April 7\,2023 snowmobile trails are closed for the season.
URL:http://www.minongtrails.com/wp/event/trails-are-closed/
LOCATION:WI
END:VEVENT
BEGIN:VEVENT
DTSTART;TZID=America/Chicago:20230325T140000
DTEND;TZID=America/Chicago:20230325T150000
DTSTAMP:20260425T085240
CREATED:20230313T211641Z
LAST-MODIFIED:20230313T211641Z
UID:1081-1679752800-1679756400@www.minongtrails.com
SUMMARY:Meat Raffle P&L Corner Bar
DESCRIPTION:Join the Minong Trail Club meat raffle crew at the P&L Corner Bar for another fun afternoon. For the small token of $10USD you can rent a paddle for all the spins. After all prizes are awarded the paddles will be gathered and you can re-rent them again for the extremally low price of $5USD each to be in a 50/50 spin. The festivities begin at 2:00 PM so get there early to make sure you have your beverage of choice. Not a requirement but hey what’s a meat raffle without a beverage? Thanks to the P&L Corner Bar for hosting the Minong Trail Club.
URL:http://www.minongtrails.com/wp/event/meat-raffle-pl-corner-bar/
LOCATION:P&L Corner Bar\, 203 W. 5th Ave\, Minong\, WI\, 54859\, United States
END:VEVENT
BEGIN:VEVENT
DTSTART;TZID=America/Chicago:20230311T140000
DTEND;TZID=America/Chicago:20230311T150000
DTSTAMP:20260425T085240
CREATED:20230112T125645Z
LAST-MODIFIED:20230112T125645Z
UID:1061-1678543200-1678546800@www.minongtrails.com
SUMMARY:Meat Raffle - Bootleggers Bar & Grill
DESCRIPTION:Join the Minong Trail Club travelling meat raffle crew at the Bootleggers Bar & Grill for another fun afternoon. For the small token of $10USD you can rent a paddle for all the spins. After all prizes are awarded the paddles will be gathered and you can re-rent them again for the extremally low price of $5USD each to be in a 50/50 spin. The festivities begin at 2:00 PM so get there early to make sure you have your beverage of choice. Not a requirement but hey what’s a meat raffle without a beverage? Thanks to the Bootleggers Bar & Grill for hosting the Minong Trail Club.
URL:http://www.minongtrails.com/wp/event/meat-raffle-bootleggers-bar-grill/
LOCATION:Bootleggers Bar & Grill\, 16310 US-53\, Minong\, WI\, 54859\, United States
END:VEVENT
BEGIN:VEVENT
DTSTART;TZID=America/Chicago:20230308T180000
DTEND;TZID=America/Chicago:20230308T190000
DTSTAMP:20260425T085240
CREATED:20221016T154900Z
LAST-MODIFIED:20221016T154900Z
UID:935-1678298400-1678302000@www.minongtrails.com
SUMMARY:Club Meeting
DESCRIPTION:Club meeting at the Trails Clubhouse starting at 6:00PM.
URL:http://www.minongtrails.com/wp/event/club-meeting-13/
LOCATION:Minong Trails Club\, 802 S. Railroad St\, Minong\, WI\, 54859\, United States
END:VEVENT
END:VCALENDAR