BEGIN:VCALENDAR
VERSION:2.0
PRODID:-//Minong Trails Club - ECPv6.15.20//NONSGML v1.0//EN
CALSCALE:GREGORIAN
METHOD:PUBLISH
X-ORIGINAL-URL:http://www.minongtrails.com/wp
X-WR-CALDESC:Events for Minong Trails Club
REFRESH-INTERVAL;VALUE=DURATION:PT1H
X-Robots-Tag:noindex
X-PUBLISHED-TTL:PT1H
BEGIN:VTIMEZONE
TZID:America/Chicago
BEGIN:DAYLIGHT
TZOFFSETFROM:-0600
TZOFFSETTO:-0500
TZNAME:CDT
DTSTART:20230312T080000
END:DAYLIGHT
BEGIN:STANDARD
TZOFFSETFROM:-0500
TZOFFSETTO:-0600
TZNAME:CST
DTSTART:20231105T070000
END:STANDARD
BEGIN:DAYLIGHT
TZOFFSETFROM:-0600
TZOFFSETTO:-0500
TZNAME:CDT
DTSTART:20240310T080000
END:DAYLIGHT
BEGIN:STANDARD
TZOFFSETFROM:-0500
TZOFFSETTO:-0600
TZNAME:CST
DTSTART:20241103T070000
END:STANDARD
BEGIN:DAYLIGHT
TZOFFSETFROM:-0600
TZOFFSETTO:-0500
TZNAME:CDT
DTSTART:20250309T080000
END:DAYLIGHT
BEGIN:STANDARD
TZOFFSETFROM:-0500
TZOFFSETTO:-0600
TZNAME:CST
DTSTART:20251102T070000
END:STANDARD
END:VTIMEZONE
BEGIN:VEVENT
DTSTART;TZID=America/Chicago:20240831T120000
DTEND;TZID=America/Chicago:20240831T160000
DTSTAMP:20260424T130015
CREATED:20240815T011202Z
LAST-MODIFIED:20240815T141517Z
UID:1397-1725105600-1725120000@www.minongtrails.com
SUMMARY:4 Seasons Recreation Club Food and Fun Day
DESCRIPTION:Enjoy an afternoon at the park at our annual Food and Fun event! Free admission and door prize tickets for everyone. There are games for the kids and inflatables donated by the Town of Wascott. Also\, there will be an opportunity to meet Miss Snowflake 2024. We will be serving pulled pork sandwiches\, hot dogs\, corn\, etc\, as well as pop\, beer\, and seltzers. No carry-ons allowed in the park.\nWe will be raffling off a Polaris Sportsman 450 from Duluth Lawn & Sports. Only 700 tickets being sold\, so be sure to get your ticket at one of our local businesses before they run out or no later than August 30th.\nThis is a fun family friendly community event\, and we look forward to having you all join us!\n\n\n4 Seasons Recreational Club\n16380 S Ball Park Rd\n Gordon\, WI 54838
URL:http://www.minongtrails.com/wp/event/4-seasons-recreation-club-food-and-fun-day/
LOCATION:4 Seasons Recreational Club
END:VEVENT
END:VCALENDAR