BEGIN:VCALENDAR
VERSION:2.0
PRODID:-//Minong Trails Club - ECPv6.15.20//NONSGML v1.0//EN
CALSCALE:GREGORIAN
METHOD:PUBLISH
X-WR-CALNAME:Minong Trails Club
X-ORIGINAL-URL:http://www.minongtrails.com/wp
X-WR-CALDESC:Events for Minong Trails Club
REFRESH-INTERVAL;VALUE=DURATION:PT1H
X-Robots-Tag:noindex
X-PUBLISHED-TTL:PT1H
BEGIN:VTIMEZONE
TZID:America/Chicago
BEGIN:DAYLIGHT
TZOFFSETFROM:-0600
TZOFFSETTO:-0500
TZNAME:CDT
DTSTART:20220313T080000
END:DAYLIGHT
BEGIN:STANDARD
TZOFFSETFROM:-0500
TZOFFSETTO:-0600
TZNAME:CST
DTSTART:20221106T070000
END:STANDARD
BEGIN:DAYLIGHT
TZOFFSETFROM:-0600
TZOFFSETTO:-0500
TZNAME:CDT
DTSTART:20230312T080000
END:DAYLIGHT
BEGIN:STANDARD
TZOFFSETFROM:-0500
TZOFFSETTO:-0600
TZNAME:CST
DTSTART:20231105T070000
END:STANDARD
BEGIN:DAYLIGHT
TZOFFSETFROM:-0600
TZOFFSETTO:-0500
TZNAME:CDT
DTSTART:20240310T080000
END:DAYLIGHT
BEGIN:STANDARD
TZOFFSETFROM:-0500
TZOFFSETTO:-0600
TZNAME:CST
DTSTART:20241103T070000
END:STANDARD
END:VTIMEZONE
BEGIN:VEVENT
DTSTART;TZID=America/Chicago:20230128T140000
DTEND;TZID=America/Chicago:20230128T150000
DTSTAMP:20260425T100604
CREATED:20221227T140814Z
LAST-MODIFIED:20230112T125230Z
UID:1042-1674914400-1674918000@www.minongtrails.com
SUMMARY:Meat Raffle - P&L Corner Bar Northwoods Class of 2023
DESCRIPTION:Join the Trail Club crew at P&L Corner Bar for a special meat raffle with all proceeds going to the Northwoods Evergreens 🌲🌲🌲🌲🌲🌲 Class of 2023. Let’s get together and show our support for this great group of students. As always your will be able to rent a paddle for $10 USD each (hopefully it is your lucky number) to be entered for all of the spins. After all of the prizes have been awarded the paddles will be gathered and re-rented for $5 USD each for a 50/50 spin. Wow more options to win!!! IF and this is a big IF\, IF there is enough interest the club is willing to do additional 50/50 spins. ***** There will be beautiful gift baskets available to take a chance on or to win. ***** \nThe raffle starts at 2:00 PM so get there early to have your beverage of choice ready to go\, not a requirement but what’s a meat raffle without something to sip on? Thank you to Lisa and Phil for hosting this event at the P&L Corner Bar.
URL:http://www.minongtrails.com/wp/event/meat-raffle-pl-corner-bar-northwoods-class-of-2024/
LOCATION:P&L Corner Bar\, 203 W. 5th Ave\, Minong\, WI\, 54859\, United States
END:VEVENT
END:VCALENDAR