BEGIN:VCALENDAR
VERSION:2.0
PRODID:-//Minong Trails Club - ECPv6.15.20//NONSGML v1.0//EN
CALSCALE:GREGORIAN
METHOD:PUBLISH
X-ORIGINAL-URL:http://www.minongtrails.com/wp
X-WR-CALDESC:Events for Minong Trails Club
REFRESH-INTERVAL;VALUE=DURATION:PT1H
X-Robots-Tag:noindex
X-PUBLISHED-TTL:PT1H
BEGIN:VTIMEZONE
TZID:America/Chicago
BEGIN:DAYLIGHT
TZOFFSETFROM:-0600
TZOFFSETTO:-0500
TZNAME:CDT
DTSTART:20220313T080000
END:DAYLIGHT
BEGIN:STANDARD
TZOFFSETFROM:-0500
TZOFFSETTO:-0600
TZNAME:CST
DTSTART:20221106T070000
END:STANDARD
BEGIN:DAYLIGHT
TZOFFSETFROM:-0600
TZOFFSETTO:-0500
TZNAME:CDT
DTSTART:20230312T080000
END:DAYLIGHT
BEGIN:STANDARD
TZOFFSETFROM:-0500
TZOFFSETTO:-0600
TZNAME:CST
DTSTART:20231105T070000
END:STANDARD
BEGIN:DAYLIGHT
TZOFFSETFROM:-0600
TZOFFSETTO:-0500
TZNAME:CDT
DTSTART:20240310T080000
END:DAYLIGHT
BEGIN:STANDARD
TZOFFSETFROM:-0500
TZOFFSETTO:-0600
TZNAME:CST
DTSTART:20241103T070000
END:STANDARD
END:VTIMEZONE
BEGIN:VEVENT
DTSTART;TZID=America/Chicago:20230114T140000
DTEND;TZID=America/Chicago:20230114T170000
DTSTAMP:20260425T100602
CREATED:20221021T215620Z
LAST-MODIFIED:20230112T125538Z
UID:998-1673704800-1673715600@www.minongtrails.com
SUMMARY:Meat Raffle - Wolf Point Bar & Grill
DESCRIPTION:Join the Minong Trail Club travelling meat raffle crew at the Wolf Point Bar & Grill for another fun afternoon. For the small token of $10USD you can rent a paddle for all the spins. After all prizes are awarded the paddles will be gathered and you can re-rent them again for the extremally low price of $5USD each to be in a 50/50 spin. The festivities begin at 2:00 PM so get there early to make sure you have your beverage of choice. Not a requirement but hey what’s a meat raffle without a beverage? Thanks to the Wolf Point Bar & Grill for hosting the Minong Trail Club.
URL:http://www.minongtrails.com/wp/event/meat-raffle-wolf-point-bar-grill-2/
LOCATION:Wolf Point Bar & Grill\, W4186 County Hwy F\, Springbrook\, WI\, 54875\, United States
END:VEVENT
END:VCALENDAR