BEGIN:VCALENDAR
VERSION:2.0
PRODID:-//Minong Trails Club - ECPv6.15.20//NONSGML v1.0//EN
CALSCALE:GREGORIAN
METHOD:PUBLISH
X-WR-CALNAME:Minong Trails Club
X-ORIGINAL-URL:http://www.minongtrails.com/wp
X-WR-CALDESC:Events for Minong Trails Club
REFRESH-INTERVAL;VALUE=DURATION:PT1H
X-Robots-Tag:noindex
X-PUBLISHED-TTL:PT1H
BEGIN:VTIMEZONE
TZID:America/Chicago
BEGIN:DAYLIGHT
TZOFFSETFROM:-0600
TZOFFSETTO:-0500
TZNAME:CDT
DTSTART:20210314T080000
END:DAYLIGHT
BEGIN:STANDARD
TZOFFSETFROM:-0500
TZOFFSETTO:-0600
TZNAME:CST
DTSTART:20211107T070000
END:STANDARD
BEGIN:DAYLIGHT
TZOFFSETFROM:-0600
TZOFFSETTO:-0500
TZNAME:CDT
DTSTART:20220313T080000
END:DAYLIGHT
BEGIN:STANDARD
TZOFFSETFROM:-0500
TZOFFSETTO:-0600
TZNAME:CST
DTSTART:20221106T070000
END:STANDARD
BEGIN:DAYLIGHT
TZOFFSETFROM:-0600
TZOFFSETTO:-0500
TZNAME:CDT
DTSTART:20230312T080000
END:DAYLIGHT
BEGIN:STANDARD
TZOFFSETFROM:-0500
TZOFFSETTO:-0600
TZNAME:CST
DTSTART:20231105T070000
END:STANDARD
END:VTIMEZONE
BEGIN:VEVENT
DTSTART;TZID=America/Chicago:20221210T130000
DTEND;TZID=America/Chicago:20221210T160000
DTSTAMP:20260425T111117
CREATED:20221104T184249Z
LAST-MODIFIED:20221104T184249Z
UID:1025-1670677200-1670688000@www.minongtrails.com
SUMMARY:Sno-Trails Groomer Shed Open House
DESCRIPTION:Sno-Trails Groomer Shed Open House.  Sno-Trail/Sno-Mads Groomer Shed\, 10059N Ocker Rd\, Hayward\, WI.  1:00pm-4:00pm. Open house to help promote the development of a new groomer shed\, Family Fun Day.  Info:  Darlene Meza / Phone:  715-558-5263.
URL:http://www.minongtrails.com/wp/event/sno-trails-groomer-shed-open-house/
LOCATION:Sno-Trail/Sno-Mads Groomer Shed\, 10059N Ocker Rd\, Hayward\, WI\, United States
END:VEVENT
BEGIN:VEVENT
DTSTART;TZID=America/Chicago:20221210T140000
DTEND;TZID=America/Chicago:20221210T150000
DTSTAMP:20260425T111117
CREATED:20220523T182846Z
LAST-MODIFIED:20221021T215018Z
UID:826-1670680800-1670684400@www.minongtrails.com
SUMMARY:Meat Raffle @ Stanberry Rail Saloon
DESCRIPTION:Join the Minong Trail Club travelling meat raffle crew at the Stanberry Rail Saloon for another fun afternoon. For the small token of $10USD you can rent a paddle for all the spins. After all prizes are awarded the paddles will be gathered and you can re-rent them again for the extremally low price of $5USD each to be in a 50/50 spin. The festivities begin at 2:00 PM so get there early to make sure you have your beverage of choice. Not a requirement but hey what’s a meat raffle without a beverage? Thanks to the Stanberry Rail Saloon for hosting the Minong Trail Club.
URL:http://www.minongtrails.com/wp/event/meat-raffle-stanberry-rail-saloon/
LOCATION:Stanberry Rail Saloon\, N10303 County Hwy M\, Springbrook\, WI\, 54875\, United States
END:VEVENT
END:VCALENDAR