BEGIN:VCALENDAR
VERSION:2.0
PRODID:-//Minong Trails Club - ECPv6.15.20//NONSGML v1.0//EN
CALSCALE:GREGORIAN
METHOD:PUBLISH
X-ORIGINAL-URL:http://www.minongtrails.com/wp
X-WR-CALDESC:Events for Minong Trails Club
REFRESH-INTERVAL;VALUE=DURATION:PT1H
X-Robots-Tag:noindex
X-PUBLISHED-TTL:PT1H
BEGIN:VTIMEZONE
TZID:America/Chicago
BEGIN:DAYLIGHT
TZOFFSETFROM:-0600
TZOFFSETTO:-0500
TZNAME:CDT
DTSTART:20210314T080000
END:DAYLIGHT
BEGIN:STANDARD
TZOFFSETFROM:-0500
TZOFFSETTO:-0600
TZNAME:CST
DTSTART:20211107T070000
END:STANDARD
BEGIN:DAYLIGHT
TZOFFSETFROM:-0600
TZOFFSETTO:-0500
TZNAME:CDT
DTSTART:20220313T080000
END:DAYLIGHT
BEGIN:STANDARD
TZOFFSETFROM:-0500
TZOFFSETTO:-0600
TZNAME:CST
DTSTART:20221106T070000
END:STANDARD
BEGIN:DAYLIGHT
TZOFFSETFROM:-0600
TZOFFSETTO:-0500
TZNAME:CDT
DTSTART:20230312T080000
END:DAYLIGHT
BEGIN:STANDARD
TZOFFSETFROM:-0500
TZOFFSETTO:-0600
TZNAME:CST
DTSTART:20231105T070000
END:STANDARD
END:VTIMEZONE
BEGIN:VEVENT
DTSTART;TZID=America/Chicago:20220528T140000
DTEND;TZID=America/Chicago:20220528T150000
DTSTAMP:20260425T183141
CREATED:20220227T172010Z
LAST-MODIFIED:20220313T154004Z
UID:615-1653746400-1653750000@www.minongtrails.com
SUMMARY:Meat Raffle - Longbranch Smokehouse & Grille
DESCRIPTION:The bi-monthly meat raffle is held on the 2nd and 4th Saturday of each month at the Longbranch Smokehouse & Grille in Minong. Join Bob and Brian as they call out the winning numbers and present the prize for that spin. Paddles are available for rent at $10 each and are valid for all spins. After all the prizes have been awarded the paddles will be collected and then rented again for $5 each for a 50/50 spin. The festivities begin at 2:00 PM so arrive early to make sure you have your beverage of choice in hand\, not a requirement but why else would you go to the Longbranch. Thank you for your support at this event.
URL:http://www.minongtrails.com/wp/event/meat-raffle-longbranch-smokehouse-grille-5/
LOCATION:Longbranch Saloon and Grill\, 301 5th Ave E\, Minong\, WI\, 54859\, United States
END:VEVENT
END:VCALENDAR